BEGIN:VCALENDAR
VERSION:2.0
PRODID:-//ChamberMaster//Event Calendar 2.0//EN
METHOD:PUBLISH
X-PUBLISHED-TTL:P3D
REFRESH-INTERVAL:P3D
CALSCALE:GREGORIAN
BEGIN:VEVENT
DTSTART:20091202T010000Z
DTEND:20091202T020000Z
X-MICROSOFT-CDO-ALLDAYEVENT:FALSE
SUMMARY:Night Lights
DESCRIPTION:Realities For Children Shines Light on the Darkness of Child Abuse\nThe members of Realities For Children invite you to join the 12th Annual NightLights' celebration! This FREE community tree lighting ceremony features the lighting of the one-of-a-kind 50 foot tall NightLights tree\, featuring 25\,000 LED lights\, animated to music - in honor of abused and at-risk children in Northern Colorado. Please join us on Tuesday\, December 1\, 2009 from 6-7pm in the front lawn of First Presbyterian Church\, 531 South College Avenue in Fort Collins\, as we light up the night\, featuring: live musical performances\, Qdoba Mexican Grill soup\, holiday treats warm cider\, hot cocoa\, the drawing for the Rocky Mountain Chocolate Factory 33 pound chocolate Santa and special appearances by Larimer County's youth agencies. \n\nYou can help take a child out of the darkness of child abuse. Realities For Children invites businesses\, families and individuals to sponsor a light on the NightLights' Tree. Tree lights are $100 each Single light tree light sponsors receive recognition in the event night program and on GiveaNightLight.com.\n\nTwo Light Sponsors and Above - Receive Recognition in the Following:\nBerthoud Recorder\nLydia?s Style Magazine\nLyons Recorder\nNorthern Colorado Business Report\nRocky Mountain Parent Magazine\nThrifty Nickel/American Classifieds\nFort Collins Coloradoan Online\nNightLights Website ? GiveaNightLight.com\nOfficial NightLights Event Program\nTwitter and Facebook\n\nNightLights donations will serve over 1\,000 children this December and more than a dozen children?s agencies in 2010. Please help us ensure that one of our community's children is not forgotten. Give a NightLight or become a Champion for Children. For event information or to sponsor a light on the NightLights tree\, please click here or call 970.484.9090 (major credit cards accepted). \n\nChecks can be made payable to Realities For Children Charities. \nNote NightLights in the memo line and mail to:\nRealities For Children Charities\n1610 S. College Avenue\nFort Collins\, CO 80525\n\nRealities For Children Charities is a 501(c)3 organization. All donations are tax deductible\, and 100% of your donation directly serves over one thousand abused\, neglected and at-risk children in Larimer County this December and more than a dozen local youth agencies in the New Year.
X-ALT-DESC;FMTTYPE=text/html:Realities For Children Shines Light on the Darkness of Child Abuse\nThe members of Realities For Children invite you to join the 12th Annual NightLights' celebration! This FREE community tree lighting ceremony features the lighting of the one-of-a-kind 50 foot tall NightLights tree\, featuring 25\,000 LED lights\, animated to music - in honor of abused and at-risk children in Northern Colorado. Please join us on Tuesday\, December 1\, 2009 from 6-7pm in the front lawn of First Presbyterian Church\, 531 South College Avenue in Fort Collins\, as we light up the night\, featuring: live musical performances\, Qdoba Mexican Grill soup\, holiday treats warm cider\, hot cocoa\, the drawing for the Rocky Mountain Chocolate Factory 33 pound chocolate Santa and special appearances by Larimer County's youth agencies. \n\nYou can help take a child out of the darkness of child abuse. Realities For Children invites businesses\, families and individuals to sponsor a light on the NightLights' Tree. Tree lights are $100 each Single light tree light sponsors receive recognition in the event night program and on GiveaNightLight.com.\n\nTwo Light Sponsors and Above - Receive Recognition in the Following:\nBerthoud Recorder\nLydia?s Style Magazine\nLyons Recorder\nNorthern Colorado Business Report\nRocky Mountain Parent Magazine\nThrifty Nickel/American Classifieds\nFort Collins Coloradoan Online\nNightLights Website ? GiveaNightLight.com\nOfficial NightLights Event Program\nTwitter and Facebook\n\nNightLights donations will serve over 1\,000 children this December and more than a dozen children?s agencies in 2010. Please help us ensure that one of our community's children is not forgotten. Give a NightLight or become a Champion for Children. For event information or to sponsor a light on the NightLights tree\, please click here or call 970.484.9090 (major credit cards accepted). \n\nChecks can be made payable to Realities For Children Charities. \nNote NightLights in the memo line and mail to:\nRealities For Children Charities\n1610 S. College Avenue\nFort Collins\, CO 80525\n\nRealities For Children Charities is a 501(c)3 organization. All donations are tax deductible\, and 100% of your donation directly serves over one thousand abused\, neglected and at-risk children in Larimer County this December and more than a dozen local youth agencies in the New Year.\n\n\n\n\n\n
LOCATION:531 S. College Avenue\, Fort Collins (Front lawn of First Presbyterian Church)
UID:e.593.1622
SEQUENCE:3
DTSTAMP:20260419T172921Z
URL:https://business.loveland.org/events/details/night-lights-12-01-2009-1622
END:VEVENT

END:VCALENDAR
