BEGIN:VCALENDAR
VERSION:2.0
PRODID:-//ChamberMaster//Event Calendar 2.0//EN
METHOD:PUBLISH
X-PUBLISHED-TTL:P3D
REFRESH-INTERVAL:P3D
CALSCALE:GREGORIAN
BEGIN:VEVENT
DTSTART:20251202T003000Z
DTEND:20251202T020000Z
X-MICROSOFT-CDO-ALLDAYEVENT:FALSE
SUMMARY:Nightlights Tree Lighting Celebration
DESCRIPTION:Join Us For our Tree Lighting Celebration\n\n\n\n\n\n\nTake a visit into a Winter Wonderland on Monday December 1\, 2025\, for the 28th Annual NightLights Tree Lighting! Join us as we gather around the iconic 50-ft blue NightLights tree to raise awareness for child abuse prevention and light up the night with hope.\n\n\n\nEvent Details\n\nLocation: First Presbyterian Church\, 531 S College Ave\, Fort Collins\n\nTime: Festivities begin at 5:30 PM\n\nProgram: 6:00 - 7:00 PM\n\nThis free\, community celebration has something for everyone! Enjoy:\n\n\n	Live music by Steve Manshel starting at 5:30 PM\n	Selfies with Santa & Mrs. Claus\n	Performance by the Northern Colorado Dance Fusion Competition Team\n	Complimentary Hot Cocoa from High Desert Chocolates\n	Complimentary Cookies\n	Live Reindeer\n	Create a craft in Santa's Workshop\n	Write and mail letter to Santa\n	Performances by The Studio Performance Team\n	Special performance of the NightLights song by Maya Castor\n	Children can enter to win a 32lb Chocolate Santa from Kilwins Fort Collins\n	Donate $100 to be entered to win a $500 SCHEELS gift card\n	Lighting of the 50-ft blue NightLights tree\n\n\nThis is an event you won't want to miss! Invite your friends\, family\, and neighbors to join us for this magical evening!\n\n\n\nLearn More about brightening the life of a child at GiveaNightLight.com
X-ALT-DESC;FMTTYPE=text/html:<div>\n<div>\n<div>\n<h2 style="text-align:center">Join Us For our Tree Lighting Celebration</h2>\n</div>\n</div>\n</div>\n\n<div>\n<div>\n<div style="text-align:center">Take a visit into a Winter Wonderland on Monday December 1\, 2025\, for the 28th Annual NightLights Tree Lighting! Join us as we gather around the iconic 50-ft blue NightLights tree to raise awareness for child abuse prevention and light up the night with hope.</div>\n</div>\n\n<div>\n<h3><strong>Event Details</strong></h3>\n\n<p><strong>Location:</strong>&nbsp\;First Presbyterian Church\, 531 S College Ave\, Fort Collins<br />\n<strong>Time:</strong>&nbsp\;Festivities begin at 5:30 PM<br />\n<strong>Program:</strong>&nbsp\;6:00 - 7:00 PM</p>\n\n<p>This free\, community celebration has something for everyone! Enjoy:</p>\n\n<ul>\n	<li>Live music by Steve Manshel starting at 5:30 PM</li>\n	<li>Selfies with Santa &amp\; Mrs. Claus</li>\n	<li>Performance by the Northern Colorado Dance Fusion Competition Team</li>\n	<li>Complimentary Hot Cocoa from High Desert Chocolates</li>\n	<li>Complimentary Cookies</li>\n	<li>Live Reindeer</li>\n	<li>Create a craft in Santa&#39\;s Workshop</li>\n	<li>Write and mail letter to Santa</li>\n	<li>Performances by The Studio Performance Team</li>\n	<li>Special performance of the NightLights song by Maya Castor</li>\n	<li>Children can enter to win a 32lb Chocolate Santa from Kilwins Fort Collins</li>\n	<li>Donate $100 to be entered to win a $500 SCHEELS gift card</li>\n	<li>Lighting of the 50-ft blue NightLights tree</li>\n</ul>\n\n<p>This is an event you won&rsquo\;t want to miss! Invite your friends\, family\, and neighbors to join us for this magical evening!<br />\n<br />\nLearn More about brightening the life of a child at <a href="http://www.giveanightlight.com">GiveaNightLight.com</a></p>\n</div>\n</div>\n
LOCATION:First Presbyterian Church 531 S College Ave\, Fort Collins
UID:e.593.25119
SEQUENCE:3
DTSTAMP:20260420T192354Z
URL:https://business.loveland.org/events/details/nightlights-tree-lighting-celebration-12-01-2025-25119
END:VEVENT

END:VCALENDAR
