BEGIN:VCALENDAR
VERSION:2.0
PRODID:-//ChamberMaster//Event Calendar 2.0//EN
METHOD:PUBLISH
X-PUBLISHED-TTL:P3D
REFRESH-INTERVAL:P3D
CALSCALE:GREGORIAN
BEGIN:VEVENT
DTSTART:20100114T150000Z
DTEND:20100114T180000Z
X-MICROSOFT-CDO-ALLDAYEVENT:FALSE
SUMMARY:No Guts\, No Gain Sales Success Seminar 01/14/10
DESCRIPTION:'Sell Today\, Eliminate Unpaid Consulting' Are You: Frustrated with creating bids and proposals that don't lead to a sale?Angry over prospects shopping you?Dissapointed with the response you get from mailing out brochures and catalogues?Tired of making great presentations that only occasionally result in a sale?During this seminar\, you will learn: How to distinguish between the serious prospects and the time-wasting 'think-it-overs'A system that has your prospects asking you to close the saleHow to make a no-pressure presentationSell today\, educate tomorrowShorten your sales cycleClose more sales
X-ALT-DESC;FMTTYPE=text/html:<div><big><strong><span style="font-size: larger">'Sell Today\, Eliminate Unpaid Consulting'</span></strong></big></div><div>&nbsp\;</div><div><span style="color: #3366ff"><strong>Are You:&nbsp\;</strong></span></div><ul><li><strong>Frustrated</strong> with creating bids and proposals that don't lead to a sale?</li><li><strong>Angry</strong> over prospects shopping you?</li><li><strong>Dissapointed</strong> with the response you get from mailing out brochures and catalogues?</li><li><strong>Tired</strong> of making great presentations that only occasionally result in a sale?</li></ul><div><span style="color: #3366ff">During this seminar\, you will learn:&nbsp\;</span></div><ul><li>How to distinguish between the serious prospects and the time-wasting 'think-it-overs'</li><li>A system that has your prospects asking you to close the sale</li><li>How to make a no-pressure presentation</li><li>Sell today\, educate tomorrow</li><li>Shorten your sales cycle</li><li>Close more sales</li></ul>
LOCATION:Loveland Chamber of Commerce5400 Stone Creek Circle
UID:e.593.2072
SEQUENCE:3
DTSTAMP:20260419T160445Z
URL:https://business.loveland.org/events/details/no-guts-no-gain-sales-success-seminar-01-14-10-01-14-2010-2072
END:VEVENT

END:VCALENDAR
