BEGIN:VCALENDAR
VERSION:2.0
PRODID:-//ChamberMaster//Event Calendar 2.0//EN
METHOD:PUBLISH
X-PUBLISHED-TTL:P3D
REFRESH-INTERVAL:P3D
CALSCALE:GREGORIAN
BEGIN:VEVENT
DTSTART:20091113T003000Z
DTEND:20091113T020000Z
X-MICROSOFT-CDO-ALLDAYEVENT:FALSE
SUMMARY:NoCO Social Media Social
DESCRIPTION:You've read their bios\, responded to their tweets\, now come and meet the faces behind the avatars!  Join the members of Loveland Chamber of Commerce's Web 2.0 Committee at their second NoCO Social Media Social on Thursday November 12th from 5:30 - 7 p.m. at the Best Western Crossroads Inn & Conference Center.   					The Best Western Crossroads Inn & Conference Center is located at the crossroads of Northern Colorado with convenient access to both US HWY 34 and I-25.
X-ALT-DESC;FMTTYPE=text/html:<div>You&rsquo\;ve read their bios\, responded to their tweets\, now come and meet the faces behind the avatars!&nbsp\; Join the members of Loveland Chamber of Commerce&rsquo\;s Web 2.0 Committee at their second NoCO Social Media Social on Thursday November 12th from 5:30 - 7 p.m. at the Best Western Crossroads Inn &amp\;&nbsp\;Conference Center.&nbsp\;</div><div>&nbsp\; 					<div>The Best Western Crossroads Inn &amp\;&nbsp\;Conference Center is located at the crossroads of Northern Colorado with convenient access to both US&nbsp\;HWY&nbsp\;34 and I-25.</div></div>
LOCATION:5542 E US Highway 34\, Loveland\, CO 80538-8994970-667-7810 You can also follow them on Twitter: BWLoveland
UID:e.593.1904
SEQUENCE:3
DTSTAMP:20260419T203309Z
URL:https://business.loveland.org/events/details/noco-social-media-social-11-12-2009-1904
END:VEVENT

END:VCALENDAR
