BEGIN:VCALENDAR
VERSION:2.0
PRODID:-//ChamberMaster//Event Calendar 2.0//EN
METHOD:PUBLISH
X-PUBLISHED-TTL:P3D
REFRESH-INTERVAL:P3D
CALSCALE:GREGORIAN
BEGIN:VEVENT
DTSTART:20100318T174500Z
DTEND:20100318T190000Z
X-MICROSOFT-CDO-ALLDAYEVENT:FALSE
SUMMARY:Onward and Upward in 2010 Business Planning and People Strategies for Success
DESCRIPTION:Job Descriptions and Compensation\nFrom the type of candidates you attract\, to the expectations applicants have for compensation\nand opportunity\, to the demands that you place on each of your people\, job descriptions are a\nfoundation of your organization and its success. How you define the parameters of each role\,\nwhether for a current member of your staff\, a newly created position that you fill from within\, or\nwhat you look for in a new hire\, job descriptions and compensation must be handled right.
X-ALT-DESC;FMTTYPE=text/html:<div>Job Descriptions and Compensation</div><br /><div>From the type of candidates you attract\, to the expectations applicants have for compensation</div><br /><div>and opportunity\, to the demands that you place on each of your people\, job descriptions are a</div><br /><div>foundation of your organization and its success. How you define the parameters of each role\,</div><br /><div>whether for a current member of your staff\, a newly created position that you fill from within\, or</div><br /><div>what you look for in a new hire\, job descriptions and compensation must be handled right.</div>
LOCATION:New York Life\, 300 E. Harmony Road\, Suite 300
UID:e.593.2548
SEQUENCE:3
DTSTAMP:20260419T143951Z
URL:https://business.loveland.org/events/details/onward-and-upward-in-2010-business-planning-and-people-strategies-for-success-03-18-2010-2548
END:VEVENT

END:VCALENDAR
