BEGIN:VCALENDAR
VERSION:2.0
PRODID:-//ChamberMaster//Event Calendar 2.0//EN
METHOD:PUBLISH
X-PUBLISHED-TTL:P3D
REFRESH-INTERVAL:P3D
CALSCALE:GREGORIAN
BEGIN:VEVENT
DTSTART:20100326T160000Z
DTEND:20100326T210000Z
X-MICROSOFT-CDO-ALLDAYEVENT:FALSE
SUMMARY:Open House at the Hillcrest
DESCRIPTION:Come take a peek at  Loveland's  premier retirement community\, see the construction that is underway for the  Assisted Living and Secure Memory Care expansion\, and enjoy Hillcrest's home  baked treats.
X-ALT-DESC;FMTTYPE=text/html:<p class="MsoNormal"><font size="4"><span style="font-weight: bold\; font-size: 14pt\;">Come take a peek at  <st1:city w:st="on"><st1:place w:st="on">Loveland</st1:place></st1:city>&rsquo\;s  premier retirement community\, see the construction that is underway for the  Assisted Living and Secure Memory Care expansion\, and enjoy Hillcrest&rsquo\;s home  baked treats.</span></font><b><font size="4" face="Calibri" color="red"><span style="font-weight: bold\; font-size: 14pt\; color: red\;"><o:p></o:p></span></font></b></p>
LOCATION:The Hillcrest\, Exceptional Senior Residences\, 535 North Douglas Avenue\, Loveland
UID:e.593.3020
SEQUENCE:3
DTSTAMP:20260419T125737Z
URL:https://business.loveland.org/events/details/open-house-at-the-hillcrest-03-26-2010-3020
END:VEVENT

END:VCALENDAR
