BEGIN:VCALENDAR
VERSION:2.0
PRODID:-//ChamberMaster//Event Calendar 2.0//EN
METHOD:PUBLISH
X-PUBLISHED-TTL:P3D
REFRESH-INTERVAL:P3D
CALSCALE:GREGORIAN
BEGIN:VEVENT
DTSTART;VALUE=DATE:20251204
DTEND;VALUE=DATE:20251205
TRANSP:TRANSPARENT
X-MICROSOFT-CDO-ALLDAYEVENT:TRUE
SUMMARY:Open House\, Prizes\, Food\, and more
DESCRIPTION:Dr. Mellyna McGlothlin (Dr. McG) and nurse Roni of NewU Wellness Center have teamed up with Living Well Nutrition to offer functional medicine.  Dr. McG and Roni are offering bio-identical hormones\, weight loss\, PRP for joint health\, aesthetics\, and more!   Come have fabulous food and casual conversations with these amazing healers.
X-ALT-DESC;FMTTYPE=text/html:Dr. Mellyna McGlothlin (Dr. McG) and nurse Roni of NewU Wellness Center have teamed up with Living Well Nutrition to offer functional medicine.&nbsp\; Dr. McG and Roni are offering bio-identical hormones\, weight loss\, PRP for joint health\, aesthetics\, and more!&nbsp\; &nbsp\;Come have fabulous food and casual conversations with these amazing healers.&nbsp\;
LOCATION:1435 W. 29th St. Loveland\, CO 80538
UID:e.593.25122
SEQUENCE:3
DTSTAMP:20260420T192611Z
URL:https://business.loveland.org/events/details/open-house-prizes-food-and-more-25122
END:VEVENT

END:VCALENDAR
