BEGIN:VCALENDAR
VERSION:2.0
PRODID:-//ChamberMaster//Event Calendar 2.0//EN
METHOD:PUBLISH
X-PUBLISHED-TTL:P3D
REFRESH-INTERVAL:P3D
CALSCALE:GREGORIAN
BEGIN:VEVENT
DTSTART:20091008T160000Z
DTEND:20091008T180000Z
X-MICROSOFT-CDO-ALLDAYEVENT:FALSE
SUMMARY:Own Your Future
DESCRIPTION:On July 7\, Colorado Governor Bill Ritter launched the Own Your Future campaign\, in conjunction with the State of Colorado Partnership Program\, during a press conference from the steps of the state Capitol. The campaign strives to raise consumer awareness of the need to take personal responsibility to plan for potential long-term care expenses. Join us at the Chamber of Commerce Conference Room on Thursday October 8th at 10:00 am\, 12:00 noon\, or 3:00 pm to learn how to: 1) Leverage your business for personal planning 2) Utilize the State of Colorado Partnership Program 3) Maximize current and future tax benefits and 4) Benefit your business. Refreshments will be provided\, feel free to bring your lunch in. Please register online at http://ownyourfuture.eventbrite.com\, or call 970-744-4629 if you would like more information but can't attend. Event Sponsored by Mueller and Associates\, CPA\, LLC\, Gene Elder and Andrew Flanscha\, Financial Consultants.
X-ALT-DESC;FMTTYPE=text/html:<div>On July 7\, Colorado Governor Bill Ritter launched the Own Your Future campaign\, in conjunction with the State of Colorado Partnership Program\, during a press conference from the steps of the state Capitol. The campaign strives to raise consumer awareness of the need to take personal responsibility to plan for potential long-term care expenses. Join us at the Chamber of Commerce Conference Room on Thursday October 8th at 10:00 am\, 12:00 noon\, or 3:00 pm to learn how to: 1) Leverage your business for personal planning 2) Utilize the State of Colorado Partnership Program 3) Maximize current and future tax benefits and 4) Benefit your business. Refreshments will be provided\, feel free to bring your lunch in.</div><div>&nbsp\;</div><div>Please register online at <a href="http://ownyourfuture.eventbrite.com">http://ownyourfuture.eventbrite.com</a>\, or call 970-744-4629 if you would like more information but can&rsquo\;t attend. Event Sponsored by Mueller and Associates\, CPA\, LLC\, Gene Elder and Andrew Flanscha\, Financial Consultants.</div>
LOCATION:Loveland Chamber of Commerce5400 Stone Creek Circle
UID:e.593.19
SEQUENCE:3
DTSTAMP:20260419T215433Z
URL:https://business.loveland.org/events/details/own-your-future-10-08-2009-19
END:VEVENT

END:VCALENDAR
