BEGIN:VCALENDAR
VERSION:2.0
PRODID:-//ChamberMaster//Event Calendar 2.0//EN
METHOD:PUBLISH
X-PUBLISHED-TTL:P3D
REFRESH-INTERVAL:P3D
CALSCALE:GREGORIAN
BEGIN:VEVENT
DTSTART:20100603T003000Z
DTEND:20100603T020000Z
X-MICROSOFT-CDO-ALLDAYEVENT:FALSE
SUMMARY:Pathways Hospice Newly Bereaved Group
DESCRIPTION:Surviving the early days after loss\, for grieving persons in the first months of grief.
X-ALT-DESC;FMTTYPE=text/html:Surviving the early days after loss\, for grieving persons in the first months of grief.     \n<br>
LOCATION:Sessions held at Pathways Hospice\, 305 Carpenter Road\, Fort Collins.
UID:e.593.3070
SEQUENCE:3
DTSTAMP:20260421T082427Z
URL:https://business.loveland.org/events/details/pathways-hospice-newly-bereaved-group-06-02-2010-3070
END:VEVENT

END:VCALENDAR
