BEGIN:VCALENDAR
VERSION:2.0
PRODID:-//ChamberMaster//Event Calendar 2.0//EN
METHOD:PUBLISH
X-PUBLISHED-TTL:P3D
REFRESH-INTERVAL:P3D
CALSCALE:GREGORIAN
BEGIN:VEVENT
DTSTART:20091201T233000Z
DTEND:20091202T000000Z
X-MICROSOFT-CDO-ALLDAYEVENT:FALSE
SUMMARY:Psy Trans Ribbon Cutting
DESCRIPTION:
X-ALT-DESC;FMTTYPE=text/html:
LOCATION:Loveland Chamber of Commerce
UID:e.593.2032
SEQUENCE:3
DTSTAMP:20260419T173032Z
URL:https://business.loveland.org/events/details/psy-trans-ribbon-cutting-12-01-2009-2032
END:VEVENT

END:VCALENDAR
