BEGIN:VCALENDAR
VERSION:2.0
PRODID:-//ChamberMaster//Event Calendar 2.0//EN
METHOD:PUBLISH
X-PUBLISHED-TTL:P3D
REFRESH-INTERVAL:P3D
CALSCALE:GREGORIAN
BEGIN:VEVENT
DTSTART;VALUE=DATE:20091102
DTEND;VALUE=DATE:20091205
TRANSP:TRANSPARENT
X-MICROSOFT-CDO-ALLDAYEVENT:TRUE
SUMMARY:Realities for Children's 12th Annual Bikes for Tykes
DESCRIPTION:Lee?s Cyclery\, The Phoenix Cyclery\, Breakaway Cycles\, Trek Store of Loveland and Great Western Bank are collecting new and used children?s and adults? bicycles for Realities for Children?s Bikes for Tykes distribution to abused and at-risk youth\, from affiliate children?s agencies\, in Larimer County. Take your used bike to the following bicycle shops - where it will be refurbished and safety-checked to ensure safe riding for the recipient. New bicycles can be taken to Great Western Bank. Donation Deadline: Friday\, December 4th. For more information\, call (970) 484.9090 or visit rfcBikesForTykes.com. All donations are tax deductible.\nLee?s Cyclery\n202 W. Laurel St.\, F.C. (970) 482-6006\n931 E. Harmony Rd.\, F.C. (970) 226-6006\nThe Phoenix Cyclery\n1532 E. Mulberry St.\, Suite D\, Fort Collins (970) 493-4517\nBreakaway Cycles\n2237 W. Eisenhower Blvd.\, Loveland (970) 663-1726\nTrek Bicycle Store 4880 Thompson Pkwy.\, Loveland (970) 667-8735\nGreat Western Bank 151 S. College Ave.\, F.C. (970) 226-1080\n       3711 JFK Pkwy. #100\, F.C. (970) 206-4585
X-ALT-DESC;FMTTYPE=text/html:Lee?s Cyclery\, The Phoenix Cyclery\, Breakaway Cycles\, Trek Store of Loveland and Great Western Bank are collecting new and used children?s and adults? bicycles for Realities for Children?s Bikes for Tykes distribution to abused and at-risk youth\, from affiliate children?s agencies\, in Larimer County. Take your used bike to the following bicycle shops - where it will be refurbished and safety-checked to ensure safe riding for the recipient. New bicycles can be taken to Great Western Bank. Donation Deadline: Friday\, December 4th. For more information\, call (970) 484.9090 or visit rfcBikesForTykes.com. All donations are tax deductible.\nLee?s Cyclery\n202 W. Laurel St.\, F.C. (970) 482-6006\n931 E. Harmony Rd.\, F.C. (970) 226-6006\nThe Phoenix Cyclery\n1532 E. Mulberry St.\, Suite D\, Fort Collins (970) 493-4517\nBreakaway Cycles\n2237 W. Eisenhower Blvd.\, Loveland (970) 663-1726\nTrek Bicycle Store 4880 Thompson Pkwy.\, Loveland (970) 667-8735\nGreat Western Bank 151 S. College Ave.\, F.C. (970) 226-1080\n       3711 JFK Pkwy. #100\, F.C. (970) 206-4585\n
LOCATION:See description for a complete listing of drop-off locations.
UID:e.593.1901
SEQUENCE:3
DTSTAMP:20260419T190957Z
URL:https://business.loveland.org/events/details/realities-for-children-s-12th-annual-bikes-for-tykes-11-02-2009-1901
END:VEVENT

END:VCALENDAR
