BEGIN:VCALENDAR
VERSION:2.0
PRODID:-//ChamberMaster//Event Calendar 2.0//EN
METHOD:PUBLISH
X-PUBLISHED-TTL:P3D
REFRESH-INTERVAL:P3D
CALSCALE:GREGORIAN
BEGIN:VEVENT
DTSTART:20100324T233000Z
DTEND:20100325T013000Z
X-MICROSOFT-CDO-ALLDAYEVENT:FALSE
SUMMARY:Regional Business After Hours
DESCRIPTION:Regional business is at its best - Join the Loveland\, Berthoud and Milliken/Johnstown Chambers of Commerce for the trios first-ever regional Business After Hours. Don't miss your opportunity to expand your business and personal network while also enjoying live entertainment\, courtesy of our host\, the Candlelight Dinner Playhouse in Johnstown.  Entry to this event is FREE\, however pre-registration is recommended. Complimentary appetizers and a cash bar will be available.  As part of this special event\, the Loveland Chamber of Commerce will be selling discounted Candlelight Dinner Playhouse tickets. $45 gets you a voucher to be used for any show during the rest of 2010. You may pre-pay online for your tickets and pick them up at the event\, or you can buy your tickets during the night.  Northern Colorado Business just got sweeter - See you on March 24\, from 5:30 p.m. to 7:30 p.m. for regional Business After Hours.
X-ALT-DESC;FMTTYPE=text/html:<div><p class="MsoNormal" style="margin: 0in 0in 0pt"><span style="font-family: Arial\; color: black\; font-size: 9pt"><o:p>Regional business is at its best - Join the Loveland\, Berthoud and Milliken/Johnstown Chambers of Commerce for the trios first-ever regional Business After Hours. Don't miss your opportunity to expand your business and personal network while also enjoying live entertainment\, courtesy of our host\, the Candlelight Dinner Playhouse in Johnstown. </o:p></span></p><p class="MsoNormal" style="margin: 0in 0in 0pt">&nbsp\;</p><p class="MsoNormal" style="margin: 0in 0in 0pt"><span style="font-family: Arial\; color: black\; font-size: 9pt">Entry to this event is FREE\, however pre-registration is recommended. Complimentary appetizers and a cash bar will be available. </span></p><p class="MsoNormal" style="margin: 0in 0in 0pt">&nbsp\;</p><p class="MsoNormal" style="margin: 0in 0in 0pt"><span style="font-family: Arial\; color: black\; font-size: 9pt">As part of this special event\, the Loveland Chamber of Commerce will be selling discounted Candlelight Dinner Playhouse tickets. $45 gets you a voucher to be used for any show during the rest of 2010. You may pre-pay online for your tickets and pick them up at the event\, or you can buy your tickets during the night. </span></p><p class="MsoNormal" style="margin: 0in 0in 0pt">&nbsp\;</p><p class="MsoNormal" style="margin: 0in 0in 0pt"><span style="font-family: Arial\; color: black\; font-size: 9pt">Northern Colorado Business just got sweeter - See you on March 24\, from 5:30 p.m. to 7:30 p.m. for regional Business After Hours. </span></p></div>
LOCATION:Candlelight Dinner Playhouse 4747 Marketplace Dr Johnstown\, CO 80534
UID:e.593.2394
SEQUENCE:3
DTSTAMP:20260419T125748Z
URL:https://business.loveland.org/events/details/regional-business-after-hours-03-24-2010-2394
END:VEVENT

END:VCALENDAR
