BEGIN:VCALENDAR
VERSION:2.0
PRODID:-//ChamberMaster//Event Calendar 2.0//EN
METHOD:PUBLISH
X-PUBLISHED-TTL:P3D
REFRESH-INTERVAL:P3D
CALSCALE:GREGORIAN
BEGIN:VEVENT
DTSTART:20091216T220000Z
DTEND:20091217T000000Z
X-MICROSOFT-CDO-ALLDAYEVENT:FALSE
SUMMARY:Regionalism? Are You Ready?
DESCRIPTION:Leadership  Northern  Colorado Introduces  Regionalism Are You  Ready? featuring comments  by Michael Langley\, Langley Group and an introduction to the 2010  Leadership Northern Colorado class
X-ALT-DESC;FMTTYPE=text/html:<p align="center" class="MsoNormal" style="text-align: center\;"><strong><b><font size="5" face="Baskerville Old Face"><span style="font-size: 16pt\; font-family: &rsquo\;Baskerville Old Face&rsquo\;\;">Leadership  <st1:place w:st="on">Northern  Colorado</st1:place></span></font></b></strong><b><font size="5" face="Baskerville Old Face"><span style="font-weight: bold\; font-size: 16pt\; font-family: &rsquo\;Baskerville Old Face&rsquo\;\;"><strong><b><font face="Baskerville Old Face"><span style="font-family: &rsquo\;Baskerville Old Face&rsquo\;\;"> Introduces  </span></font></b></strong><strong><b><font face="Baskerville Old Face"><span style="font-family: &rsquo\;Baskerville Old Face&rsquo\;\;">Regionalism&hellip\;Are You  Ready?</span></font></b></strong></span></font></b><font size="5" face="Baskerville Old Face"><span style="font-size: 16pt\; font-family: &rsquo\;Baskerville Old Face&rsquo\;\;"><span style="font-weight: bold\;"> </span>featuring comments  by Michael Langley\, Langley Group and an introduction to the 2010  Leadership Northern Colorado class<b><span style="font-weight: bold\;"><o:p></o:p></span></b></span></font></p>
LOCATION:Best Western Crossroads Inn & Conference Center 5542 E. US Highway 34 Loveland\, CO
UID:e.593.2065
SEQUENCE:3
DTSTAMP:20260419T173151Z
URL:https://business.loveland.org/events/details/regionalism-are-you-ready-12-16-2009-2065
END:VEVENT

END:VCALENDAR
