BEGIN:VCALENDAR
VERSION:2.0
PRODID:-//ChamberMaster//Event Calendar 2.0//EN
METHOD:PUBLISH
X-PUBLISHED-TTL:P3D
REFRESH-INTERVAL:P3D
CALSCALE:GREGORIAN
BEGIN:VEVENT
DTSTART:20091104T213000Z
DTEND:20091104T233000Z
X-MICROSOFT-CDO-ALLDAYEVENT:FALSE
SUMMARY:Renewable Energy: Freedom to Choose Resolution
DESCRIPTION:In January 2010\, the Colorado Senate is expected to pass a resolution to encourage every company in Colorado to add a publicly traded Renewable Energy Sector Fund to employee 401(k) and other Direct Contribution plans.  Increased investments in Colorado's Clean Energy economy could create thousands of new jobs\, lower the cost of energy and benefit your company.  Will you be ready this January\, when your employees and management ask for a Renewable Energy Sector Fund in their retirement plan?  You are invited to learn about opportunities\; follow two case studies\; find out how to add a Renewable Energy Sector Fund to your employee 401(k)\, 403(b) andother Direct Contribution plans.  This program is being brought to you by Colorado Society of Human Resources Management Council and the Loveland Chamber of Commerce.
X-ALT-DESC;FMTTYPE=text/html:<p style="margin: 0in 0in 0pt\; text-align: left\;">In January 2010\, the Colorado Senate is expected to pass a resolution to encourage every company in Colorado to add a publicly traded Renewable Energy Sector Fund to employee 401(k) and other Direct Contribution plans.&nbsp\; Increased investments in Colorado&rsquo\;s Clean Energy economy could create thousands of new jobs\, lower the cost of energy and benefit your company.&nbsp\; Will you be ready this January\, when your employees and management ask for a Renewable Energy Sector Fund in their retirement plan?&nbsp\; You are invited to learn about opportunities\; follow two case studies\; find out how to add a Renewable Energy Sector Fund to your employee 401(k)\, 403(b) andother Direct Contribution plans.&nbsp\; This program is being brought to you by Colorado Society of Human Resources Management Council and the Loveland Chamber of Commerce.<font size="4" face="Arial"><span style="font-style: italic\; font-family: Arial\; font-size: 14pt\;"><br /></span></font><font face="Arial"><span style="font-family: Arial\;"><o:p></o:p></span></font></p>
LOCATION:Ken & Helen Erion Conference Room\, Loveland Chamber of Commerce\, 5400 Stone Creek Circle\, Loveland\, CO 80538
UID:e.593.1892
SEQUENCE:3
DTSTAMP:20260419T190827Z
URL:https://business.loveland.org/events/details/renewable-energy-freedom-to-choose-resolution-11-04-2009-1892
END:VEVENT

END:VCALENDAR
