BEGIN:VCALENDAR
VERSION:2.0
PRODID:-//ChamberMaster//Event Calendar 2.0//EN
METHOD:PUBLISH
X-PUBLISHED-TTL:P3D
REFRESH-INTERVAL:P3D
CALSCALE:GREGORIAN
BEGIN:VEVENT
DTSTART:20100112T233000Z
DTEND:20100113T000000Z
X-MICROSOFT-CDO-ALLDAYEVENT:FALSE
SUMMARY:Ribbon Cutting: Max Muscle
DESCRIPTION:
X-ALT-DESC;FMTTYPE=text/html:
LOCATION:982 East Eisenhower Blvd.
UID:e.593.2074
SEQUENCE:3
DTSTAMP:20260419T160311Z
URL:https://business.loveland.org/events/details/ribbon-cutting-max-muscle-01-12-2010-2074
END:VEVENT

END:VCALENDAR
