BEGIN:VCALENDAR
VERSION:2.0
PRODID:-//ChamberMaster//Event Calendar 2.0//EN
METHOD:PUBLISH
X-PUBLISHED-TTL:P3D
REFRESH-INTERVAL:P3D
CALSCALE:GREGORIAN
BEGIN:VEVENT
DTSTART:20091021T190000Z
DTEND:20091021T200000Z
X-MICROSOFT-CDO-ALLDAYEVENT:FALSE
SUMMARY:Ribbon Cutting - Northern Colorado Chapter of America Payroll Association
DESCRIPTION:A Ribbon Cutting Celebration will be held for Northern Colorado Chapter of the American Payroll Assoc. at the chamber at 1 p.m. All chamber investors are invited to attend.
X-ALT-DESC;FMTTYPE=text/html:<div><span class="Apple-style-span" style="widows: 2\; text-transform: none\; text-indent: 0px\; border-collapse: separate\; font: medium 'Times New Roman'\; white-space: normal\; orphans: 2\; letter-spacing: normal\; color: rgb(0\,0\,0)\; word-spacing: 0px\; -webkit-border-horizontal-spacing: 0px\; -webkit-border-vertical-spacing: 0px\; -webkit-text-decorations-in-effect: none\; -webkit-text-size-adjust: auto\; -webkit-text-stroke-width: 0px"><span class="Apple-style-span" style="font-family: Verdana\, Arial\, sans-serif\; font-size: 11px">A Ribbon Cutting Celebration will be held for Northern Colorado Chapter of the American Payroll Assoc. at the chamber at 1 p.m. All chamber investors are invited to attend.</span></span></div>
LOCATION:
UID:e.593.1026
SEQUENCE:3
DTSTAMP:20260419T205616Z
URL:https://business.loveland.org/events/details/ribbon-cutting-northern-colorado-chapter-of-america-payroll-association-10-21-2009-1026
END:VEVENT

END:VCALENDAR
