BEGIN:VCALENDAR
VERSION:2.0
PRODID:-//ChamberMaster//Event Calendar 2.0//EN
METHOD:PUBLISH
X-PUBLISHED-TTL:P3D
REFRESH-INTERVAL:P3D
CALSCALE:GREGORIAN
BEGIN:VEVENT
DTSTART:20100304T233000Z
DTEND:20100305T000000Z
X-MICROSOFT-CDO-ALLDAYEVENT:FALSE
SUMMARY:Ribbon Cutting: TJ Automotive Repair
DESCRIPTION:Join the Loveland Chamber's new member TJ Automotive Repair in a Ribbon Cutting ceremony
X-ALT-DESC;FMTTYPE=text/html:<div>Join the Loveland Chamber's new member TJ Automotive Repair in a Ribbon Cutting ceremony</div>
LOCATION:TJ Automotive Repair\, Inc 2316 N Lincoln Ave Loveland Co\, 80538
UID:e.593.2728
SEQUENCE:3
DTSTAMP:20260419T130116Z
URL:https://business.loveland.org/events/details/ribbon-cutting-tj-automotive-repair-03-04-2010-2728
END:VEVENT

END:VCALENDAR
