BEGIN:VCALENDAR
VERSION:2.0
PRODID:-//ChamberMaster//Event Calendar 2.0//EN
METHOD:PUBLISH
X-PUBLISHED-TTL:P3D
REFRESH-INTERVAL:P3D
CALSCALE:GREGORIAN
BEGIN:VEVENT
DTSTART:20091205T190000Z
DTEND:20091205T230000Z
X-MICROSOFT-CDO-ALLDAYEVENT:FALSE
SUMMARY:Santa's Workshop at Centerra
DESCRIPTION:December 5 - Noon-4 p.m. \nDecember 12 - 4-7 p.m. \nDecember 19 - Noon-4 p.m. \n\nThe Group Inc.\, 5401 Stone Creek Circle (east of The Marketplace located across from Loveland Chamber of Commerce) \n\nImmerse yourself in the holiday spirit! Santa arrives at Centerra in December to listen to all the holiday wishes of those who have been naughty or nice. \n\nVisit with Santa to share your wishes and be sure to bring your camera to capture the moment. \n\nThe fun continues as children will have the opportunity to enjoy cookie decorating\, crafts\, and story time with Mrs. Claus. \n\nWinter Collection: \nDonate to the Centerra Winter Clothing Drive \nNew or used winter clothing items for all ages will be accepted during all three workshop dates to benefit the House of Neighborly Services. Jackets\, hats\, scarves\, gloves\, boots are all items in need this holiday season to help keep families warm. \n\nMore info: call 980-4764 or kvecchio@engaginglovelandinc.org
X-ALT-DESC;FMTTYPE=text/html:December 5 - Noon-4 p.m. \nDecember 12 - 4-7 p.m. \nDecember 19 - Noon-4 p.m. \n\nThe Group Inc.\, 5401 Stone Creek Circle (east of The Marketplace located across from Loveland Chamber of Commerce) \n\nImmerse yourself in the holiday spirit! Santa arrives at Centerra in December to listen to all the holiday wishes of those who have been naughty or nice. \n\nVisit with Santa to share your wishes and be sure to bring your camera to capture the moment. \n\nThe fun continues as children will have the opportunity to enjoy cookie decorating\, crafts\, and story time with Mrs. Claus. \n\nWinter Collection: \nDonate to the Centerra Winter Clothing Drive \nNew or used winter clothing items for all ages will be accepted during all three workshop dates to benefit the House of Neighborly Services. Jackets\, hats\, scarves\, gloves\, boots are all items in need this holiday season to help keep families warm. \n\nMore info: call 980-4764 or kvecchio@engaginglovelandinc.org
LOCATION:Centerra The Group Inc.\, 5401 Stone Creek Circle
UID:e.593.2033
SEQUENCE:3
DTSTAMP:20260419T173221Z
URL:https://business.loveland.org/events/details/santa-s-workshop-at-centerra-12-05-2009-2033
END:VEVENT

END:VCALENDAR
