BEGIN:VCALENDAR
VERSION:2.0
PRODID:-//ChamberMaster//Event Calendar 2.0//EN
METHOD:PUBLISH
X-PUBLISHED-TTL:P3D
REFRESH-INTERVAL:P3D
CALSCALE:GREGORIAN
BEGIN:VEVENT
DTSTART:20100130T170000Z
DTEND:20100130T220000Z
X-MICROSOFT-CDO-ALLDAYEVENT:FALSE
SUMMARY:Saturday Market at McCreery House Bazaar
DESCRIPTION:Free-FUN-Food    Come join us for a day of  relaxed shopping.  Sip coffee and special treats as you shop from a  variety of eclectic vendors and explore the decorated McCreery  House.    Find one-of-a-kind gifts for all of the people on your  shopping list this year. We will be holding drawings throughout the event.
X-ALT-DESC;FMTTYPE=text/html:<p align="center" class="MsoNormal" style="text-align: center\;"><span class="Apple-style-span" style="font-weight: bold\; font-size: 24px\; font-family: Papyrus\;">Free-FUN-Food</span></p> <p align="center" class="MsoNormal" style="text-align: center\;">&nbsp\;</p> <p class="MsoNormal"><span style="font-size: 18pt\;">&nbsp\;Come join us for a day of  relaxed shopping.<span>&nbsp\; </span>Sip coffee and special treats as you shop from a  variety of eclectic vendors and explore the decorated McCreery  House.<span>&nbsp\;</span></span></p> <p align="center" class="MsoNormal" style="text-align: center\;">&nbsp\;</p> <p align="center" class="MsoNormal" style="text-align: center\;"><span style="font-size: 18pt\;">Find one-of-a-kind gifts for all of the people on your  shopping list this year. We will be holding drawings throughout the event.</span></p>
LOCATION:At the historical McCreery House\, 746 N. Washington Avenue\, Loveland
UID:e.593.2401
SEQUENCE:3
DTSTAMP:20260419T173418Z
URL:https://business.loveland.org/events/details/saturday-market-at-mccreery-house-bazaar-01-30-2010-2401
END:VEVENT

END:VCALENDAR
