BEGIN:VCALENDAR
VERSION:2.0
PRODID:-//ChamberMaster//Event Calendar 2.0//EN
METHOD:PUBLISH
X-PUBLISHED-TTL:P3D
REFRESH-INTERVAL:P3D
CALSCALE:GREGORIAN
BEGIN:VEVENT
DTSTART:20091214T173000Z
DTEND:20091214T183000Z
X-MICROSOFT-CDO-ALLDAYEVENT:FALSE
SUMMARY:Seasons With Sharon
DESCRIPTION:Singing
X-ALT-DESC;FMTTYPE=text/html:Singing
LOCATION:Sugar Valley Estates 4320 Georgetown Drive Loveland\, CO 80538
UID:e.593.2060
SEQUENCE:3
DTSTAMP:20260419T173138Z
URL:https://business.loveland.org/events/details/seasons-with-sharon-12-14-2009-2060
END:VEVENT

END:VCALENDAR
