BEGIN:VCALENDAR
VERSION:2.0
PRODID:-//ChamberMaster//Event Calendar 2.0//EN
METHOD:PUBLISH
X-PUBLISHED-TTL:P3D
REFRESH-INTERVAL:P3D
CALSCALE:GREGORIAN
BEGIN:VEVENT
DTSTART:20091107T170000Z
DTEND:20091107T230000Z
X-MICROSOFT-CDO-ALLDAYEVENT:FALSE
SUMMARY:Shopping Extravaganza
DESCRIPTION:Normal\n  0\n  \n  \n  false\n  false\n  false\n  \n   \n   \n   \n   \n   \n  \n  MicrosoftInternetExplorer4\n \n\n \n \n\n\nst1\\:*{behavior:url(#ieooui) }\n\n\n\n\n\n /* Style Definitions */\n table.MsoNormalTable\n	{mso-style-name:"Table Normal"\;\n	mso-tstyle-rowband-size:0\;\n	mso-tstyle-colband-size:0\;\n	mso-style-noshow:yes\;\n	mso-style-parent:""\;\n	mso-padding-alt:0in 5.4pt 0in 5.4pt\;\n	mso-para-margin:0in\;\n	mso-para-margin-bottom:.0001pt\;\n	mso-pagination:widow-orphan\;\n	font-size:10.0pt\;\n	font-family:"Times New Roman"\;\n	mso-ansi-language:#0400\;\n	mso-fareast-language:#0400\;\n	mso-bidi-language:#0400\;}\n\nLadies Day Out! Our Annual       Shopping Extravaganza is our "thank you" event to the ladies of the       community! This non-profit event benefits Longmont Meals on Wheels\,       Loveland High School DECA Club\, United Way Day Care Center\, Autism CO as       well as the Larimer        County Child        Advocacy Center!       Show your support by purchasing a $20 ticket (proceeds go to charities)       which includes lunch\, massages\, manicures\, entertainment\, fashion show       and of course EXTRA SAVINGS! Buy tickets at the Outlets at Loveland Customer Service        Center or online at       www.outletsatloveland.com.
X-ALT-DESC;FMTTYPE=text/html:<div><meta content="text/html\; charset=utf-8" http-equiv="Content-Type" /><meta content="Word.Document" name="ProgId" /><meta content="Microsoft Word 11" name="Generator" /><meta content="Microsoft Word 11" name="Originator" /><link href="file:///C:\\DOCUME~1\\Intern\\LOCALS~1\\Temp\\msohtml1\\01\\clip_filelist.xml" rel="File-List" /><o:smarttagtype name="PlaceType" namespaceuri="urn:schemas-microsoft-com:office:smarttags"></o:smarttagtype><o:smarttagtype name="PlaceName" namespaceuri="urn:schemas-microsoft-com:office:smarttags"></o:smarttagtype><o:smarttagtype name="place" namespaceuri="urn:schemas-microsoft-com:office:smarttags"></o:smarttagtype><!--[if gte mso 9]><xml>\n <w:WordDocument>\n  <w:View>Normal</w:View>\n  <w:Zoom>0</w:Zoom>\n  <w:PunctuationKerning />\n  <w:ValidateAgainstSchemas />\n  <w:SaveIfXMLInvalid>false</w:SaveIfXMLInvalid>\n  <w:IgnoreMixedContent>false</w:IgnoreMixedContent>\n  <w:AlwaysShowPlaceholderText>false</w:AlwaysShowPlaceholderText>\n  <w:Compatibility>\n   <w:BreakWrappedTables />\n   <w:SnapToGridInCell />\n   <w:WrapTextWithPunct />\n   <w:UseAsianBreakRules />\n   <w:DontGrowAutofit />\n  </w:Compatibility>\n  <w:BrowserLevel>MicrosoftInternetExplorer4</w:BrowserLevel>\n </w:WordDocument>\n</xml><![endif]--><!--[if gte mso 9]><xml>\n <w:LatentStyles DefLockedState="false" LatentStyleCount="156">\n </w:LatentStyles>\n</xml><![endif]--><!--[if !mso]><object\n classid="clsid:38481807-CA0E-42D2-BF39-B33AF135CC4D" id=ieooui></object>\n<style>\nst1\\:*{behavior:url(#ieooui) }\n</style>\n<![endif]--><style type="text/css">\n<!--\n /* Style Definitions */\n p.MsoNormal\, li.MsoNormal\, div.MsoNormal\n	{mso-style-parent:""\;\n	margin:0in\;\n	margin-bottom:.0001pt\;\n	mso-pagination:widow-orphan\;\n	font-size:12.0pt\;\n	font-family:"Times New Roman"\;\n	mso-fareast-font-family:"Times New Roman"\;}\na:link\, span.MsoHyperlink\n	{color:blue\;\n	text-decoration:underline\;\n	text-underline:single\;}\na:visited\, span.MsoHyperlinkFollowed\n	{color:purple\;\n	text-decoration:underline\;\n	text-underline:single\;}\n@page Section1\n	{size:8.5in 11.0in\;\n	margin:1.0in 1.25in 1.0in 1.25in\;\n	mso-header-margin:.5in\;\n	mso-footer-margin:.5in\;\n	mso-paper-source:0\;}\ndiv.Section1\n	{page:Section1\;}\n /* List Definitions */\n @list l0\n	{mso-list-id:1404327325\;\n	mso-list-type:hybrid\;\n	mso-list-template-ids:2008424924 67698689 67698691 67698693 67698689 67698691 67698693 67698689 67698691 67698693\;}\n@list l0:level1\n	{mso-level-number-format:bullet\;\n	mso-level-text:ï?·\;\n	mso-level-tab-stop:.5in\;\n	mso-level-number-position:left\;\n	text-indent:-.25in\;\n	font-family:Symbol\;}\n@list l0:level2\n	{mso-level-number-format:bullet\;\n	mso-level-text:o\;\n	mso-level-tab-stop:1.0in\;\n	mso-level-number-position:left\;\n	text-indent:-.25in\;\n	font-family:"Courier New"\;}\n@list l0:level3\n	{mso-level-tab-stop:1.5in\;\n	mso-level-number-position:left\;\n	text-indent:-.25in\;}\n@list l0:level4\n	{mso-level-tab-stop:2.0in\;\n	mso-level-number-position:left\;\n	text-indent:-.25in\;}\n@list l0:level5\n	{mso-level-tab-stop:2.5in\;\n	mso-level-number-position:left\;\n	text-indent:-.25in\;}\n@list l0:level6\n	{mso-level-tab-stop:3.0in\;\n	mso-level-number-position:left\;\n	text-indent:-.25in\;}\n@list l0:level7\n	{mso-level-tab-stop:3.5in\;\n	mso-level-number-position:left\;\n	text-indent:-.25in\;}\n@list l0:level8\n	{mso-level-tab-stop:4.0in\;\n	mso-level-number-position:left\;\n	text-indent:-.25in\;}\n@list l0:level9\n	{mso-level-tab-stop:4.5in\;\n	mso-level-number-position:left\;\n	text-indent:-.25in\;}\nol\n	{margin-bottom:0in\;}\nul\n	{margin-bottom:0in\;}\n-->\n</style><!--[if gte mso 10]>\n<style>\n /* Style Definitions */\n table.MsoNormalTable\n	{mso-style-name:"Table Normal"\;\n	mso-tstyle-rowband-size:0\;\n	mso-tstyle-colband-size:0\;\n	mso-style-noshow:yes\;\n	mso-style-parent:""\;\n	mso-padding-alt:0in 5.4pt 0in 5.4pt\;\n	mso-para-margin:0in\;\n	mso-para-margin-bottom:.0001pt\;\n	mso-pagination:widow-orphan\;\n	font-size:10.0pt\;\n	font-family:"Times New Roman"\;\n	mso-ansi-language:#0400\;\n	mso-fareast-language:#0400\;\n	mso-bidi-language:#0400\;}\n</style>\n<![endif]--></div><div><span style="font-size: 10pt\; font-family: Arial\;">Ladies Day Out! Our Annual       Shopping Extravaganza is our &ldquo\;thank you&rdquo\; event to the ladies of the       community! This non-profit event benefits Longmont Meals on Wheels\,       Loveland High School DECA Club\, United Way Day Care Center\, Autism CO as       well as the <st1:place w:st="on"><st1:placename w:st="on">Larimer</st1:placename>        <st1:placetype w:st="on">County</st1:placetype> <st1:placename w:st="on">Child</st1:placename>        <st1:placename w:st="on">Advocacy</st1:placename> <st1:placetype w:st="on">Center</st1:placetype></st1:place>!</span><span style="font-size: 10pt\; font-family: Arial\;">       Show your support by purchasing a $20 ticket (proceeds go to charities)       which includes lunch\, massages\, manicures\, entertainment\, fashion show       and of course EXTRA SAVINGS! Buy tickets at the Outlets at <st1:place w:st="on"><st1:placename w:st="on">Loveland</st1:placename> <st1:placename w:st="on">Customer</st1:placename> <st1:placename w:st="on">Service</st1:placename>        <st1:placetype w:st="on">Center</st1:placetype></st1:place> or online at       <a title="blocked::http://www.outletsatloveland.com/" href="http://www.outletsatloveland.com/">www.outletsatloveland.com</a>.       </span></div>
LOCATION:
UID:e.593.6
SEQUENCE:3
DTSTAMP:20260419T190530Z
URL:https://business.loveland.org/events/details/shopping-extravaganza-11-07-2009-6
END:VEVENT

END:VCALENDAR
