BEGIN:VCALENDAR
VERSION:2.0
PRODID:-//ChamberMaster//Event Calendar 2.0//EN
METHOD:PUBLISH
X-PUBLISHED-TTL:P3D
REFRESH-INTERVAL:P3D
CALSCALE:GREGORIAN
BEGIN:VEVENT
DTSTART:20091214T183000Z
DTEND:20091214T200000Z
X-MICROSOFT-CDO-ALLDAYEVENT:FALSE
SUMMARY:Social Media Bootcamp: 1.5 Hours to Launch
DESCRIPTION:You know what social media is but HOW do you get started? This event is for those who understand how to use the Internet\, but haven't begun to set-up social media profiles yet. Taking the first steps towards developing your businesses social media profiles may seem like a daunting task - but at the Loveland Chamber's Social Media Bootcamp it will only take you 1.5 hours to get your pages up and running so that you can begin to build and better business relationships and your brand. Brian Willms\, CEO of the Loveland Chamber will lead this workshop to get you going in the right social media direction. Bring a brown bag lunch!
X-ALT-DESC;FMTTYPE=text/html:<div>You know what social media is but HOW do you get started? This event is for those who understand how to use the Internet\, but haven't begun to set-up social media profiles yet.</div><div>&nbsp\;</div><div>Taking the first steps towards developing your businesses social media profiles may seem like a daunting task - but at the Loveland Chamber&rsquo\;s Social Media Bootcamp it will only take you 1.5 hours to get your pages up and running so that you can begin to build and better business relationships and your brand.</div><div>&nbsp\;</div><div>Brian Willms\, CEO of the Loveland Chamber will lead this workshop to get you going in the right social media direction.</div><div>&nbsp\;</div><div>Bring a brown bag lunch!</div>
LOCATION:Loveland Chamber of Commerce
UID:e.593.2049
SEQUENCE:3
DTSTAMP:20260419T173227Z
URL:https://business.loveland.org/events/details/social-media-bootcamp-1-5-hours-to-launch-12-14-2009-2049
END:VEVENT

END:VCALENDAR
