BEGIN:VCALENDAR
VERSION:2.0
PRODID:-//ChamberMaster//Event Calendar 2.0//EN
METHOD:PUBLISH
X-PUBLISHED-TTL:P3D
REFRESH-INTERVAL:P3D
CALSCALE:GREGORIAN
BEGIN:VEVENT
DTSTART:20251114T010000Z
DTEND:20251114T040000Z
X-MICROSOFT-CDO-ALLDAYEVENT:FALSE
SUMMARY:Steep & Sculpt | Custom Mug + Tea Blending Workshop
DESCRIPTION:Sip\, Create & Celebrate Fall: Custom Mug + Tea Blending Workshop\n\nJoin us on Thursday\,November 13 at 6:00 PM for a one-of-a-kind creative experience that blends art\, flavor\, and fall coziness all in one evening.\n\nWe're teaming up with Flingin' Pots and Soul Shine Botanica to bring you a workshop that lets you design your own ceramic mug and curate a personalized fall tea blend. It's the perfect way to welcome the season and create something uniquely yours.\n\nWhat to Expect:\n\nThe evening begins with a botanical tea lesson led by Sarah Finke\, owner of Soul Shine Botanica. You'll learn about the benefits of different herbs and spices\, then select from four fall-inspired blends to create your very own tea mix (enough for 12 servings!).\n\nNext\, it's time to get your hands in clay! With guidance from Flingin' Pots\, you will choose a pre-made cylinder shape then custom make the handle and personalize the exterior.. Do you like to use 2\,3 or 4 fingers in your handle? Like a more narrow opening? Need more of a beer stein with a stamped name badge? We got you covered!! Choose your handle style\, add personal touches\, and select from five high-fire glaze colors. Each mug will be kiln-fired twice for durability and returned to desk chair one month later for pick-up.\n\nTo make the evening even sweeter\, your ticket also includes a glass of wine\, beer\, or a non-alcoholic beverage\, plus plenty of cozy fall teas to sip while you create.\n\nTicket Price: $75 per person\n\nYour ticket includes:\n\n\n	A glass of wine\, beer\, or non-alcoholic beverage\n	Hands-on mug design workshop (all supplies provided)\n	Custom ceramic mug\, glazed and kiln-fired\n	Tea blending lesson + custom blend to take home (12 servings)\n	Fall teas to enjoy during the event\n\n\nCome for the creativity - and leave with a custom mug and a tea blend that's all your own.\n\nSpots are limited
X-ALT-DESC;FMTTYPE=text/html:<p>Sip\, Create &amp\; Celebrate Fall: Custom Mug + Tea Blending Workshop</p>\n\n<p>Join us on Thursday\,November 13 at 6:00 PM for a one-of-a-kind creative experience that blends art\, flavor\, and fall coziness all in one evening.</p>\n\n<p>We&rsquo\;re teaming up with Flingin&rsquo\; Pots and Soul Shine Botanica to bring you a workshop that lets you design your own ceramic mug&nbsp\;<em>and</em>&nbsp\;curate a personalized fall tea blend. It&rsquo\;s the perfect way to welcome the season and create something uniquely yours.</p>\n\n<p><em>What to Expect:</em><br />\nThe evening begins with a botanical tea lesson led by Sarah Finke\, owner of Soul Shine Botanica. You&rsquo\;ll learn about the benefits of different herbs and spices\, then select from four fall-inspired blends to create your very own tea mix (enough for 12 servings!).</p>\n\n<p>Next\, it&rsquo\;s time to get your hands in clay! With guidance from Flingin&rsquo\; Pots\, you will choose a pre-made cylinder shape then custom make the handle and personalize the exterior.. Do you like to use 2\,3 or 4 fingers in your handle? Like a more narrow opening? Need more of a beer stein with a stamped name badge? We got you covered!! Choose your handle style\, add personal touches\, and select from five high-fire glaze colors. Each mug will be kiln-fired twice for durability and returned to desk chair one month later for pick-up.</p>\n\n<p>To make the evening even sweeter\, your ticket also includes a glass of wine\, beer\, or a non-alcoholic beverage\, plus plenty of cozy fall teas to sip while you create.</p>\n\n<p><strong>Ticket Price: $75 per person</strong><br />\nYour ticket includes:</p>\n\n<ul>\n	<li>A glass of wine\, beer\, or non-alcoholic beverage</li>\n	<li>Hands-on mug design workshop (all supplies provided)</li>\n	<li>Custom ceramic mug\, glazed and kiln-fired</li>\n	<li>Tea blending lesson + custom blend to take home (12 servings)</li>\n	<li>Fall teas to enjoy during the event</li>\n</ul>\n\n<p>Come for the creativity - and leave with a custom mug and a tea blend that&rsquo\;s all your own.</p>\n\n<p>Spots are limited&mdash\;</p>\n
LOCATION:desk chair workspace: 201 East 4th Street Loveland\, CO 80537
UID:e.593.24950
SEQUENCE:3
DTSTAMP:20260420T210214Z
URL:https://business.loveland.org/events/details/steep-sculpt-custom-mug-tea-blending-workshop-24950
END:VEVENT

END:VCALENDAR
