BEGIN:VCALENDAR
VERSION:2.0
PRODID:-//ChamberMaster//Event Calendar 2.0//EN
METHOD:PUBLISH
X-PUBLISHED-TTL:P3D
REFRESH-INTERVAL:P3D
CALSCALE:GREGORIAN
BEGIN:VEVENT
DTSTART:20091012T183000Z
DTEND:20091012T193000Z
X-MICROSOFT-CDO-ALLDAYEVENT:FALSE
SUMMARY:Stir Connection
DESCRIPTION:Want to meet up with your fellow young professionals on a more frequent basis to network\, discuss roadblocks\, leads and opportunities? Then Stir Connection meetings are for you! This is a great way to grow your network- and potentially expand business opportunities with your peers. Feel free to bring a brown lunch! If you register via Facebook\, please also e-mail Stir@loveland.org to confirm registration. See you there!
X-ALT-DESC;FMTTYPE=text/html:<div>Want to meet up with your fellow young professionals on a more frequent basis to network\, discuss roadblocks\, leads and opportunities? Then Stir Connection meetings are for you!</div><div>&nbsp\;</div><div>This is a great way to grow your network- and potentially expand business opportunities with your peers. Feel free to bring a brown lunch!</div><div>&nbsp\;</div><div>If you register via Facebook\, please also e-mail Stir@loveland.org to confirm registration. See you there!</div>
LOCATION:Farmers Insurance Group on 1714 Topaz Drive #135\, Loveland\, CO 80537
UID:e.593.14
SEQUENCE:3
DTSTAMP:20260419T202942Z
URL:https://business.loveland.org/events/details/stir-connection-10-12-2009-14
END:VEVENT

END:VCALENDAR
