BEGIN:VCALENDAR
VERSION:2.0
PRODID:-//ChamberMaster//Event Calendar 2.0//EN
METHOD:PUBLISH
X-PUBLISHED-TTL:P3D
REFRESH-INTERVAL:P3D
CALSCALE:GREGORIAN
BEGIN:VEVENT
DTSTART:20100210T143000Z
DTEND:20100210T160000Z
X-MICROSOFT-CDO-ALLDAYEVENT:FALSE
SUMMARY:Stir Educational Meeting
DESCRIPTION:Join the adventure with Steve Shoppman\, a National Geographic's 2009 Adventurer of the year.Have you ever wanted to see the world? Check out Steve Shoppman's story as he talks about The World by Road expedition. Traveling 77\,000 miles in 6 different countries while exploring 69 countries as part of a documentary film. The Colorado native quit his job as a freelance multimedia designer and consultant to travel The World By Road with his roomate Stephen Bouey. Find out what inspires Steve and learn about the advice he has for young professionals & maybe you will be able to travel the world by road!
X-ALT-DESC;FMTTYPE=text/html:<div>Join the adventure with Steve Shoppman\, a National Geographic's 2009 Adventurer of the year.</div><div>Have you ever wanted to see the world? Check out Steve Shoppman's story as he talks about The World by Road expedition. Traveling 77\,000 miles in 6 different countries while exploring 69 countries as part of a documentary film. The Colorado native quit his job as a freelance multimedia designer and consultant to travel The World By Road with his roomate Stephen Bouey. </div><div>Find out what inspires Steve and learn about the advice he has for young professionals &amp\; maybe you will be able to travel the world by road!</div>
LOCATION:Colorado Christian University\, 1750 Foxtrain Drive\, Loveland\, CO 80539
UID:e.593.2102
SEQUENCE:3
DTSTAMP:20260419T143412Z
URL:https://business.loveland.org/events/details/stir-educational-meeting-02-10-2010-2102
END:VEVENT

END:VCALENDAR
