BEGIN:VCALENDAR
VERSION:2.0
PRODID:-//ChamberMaster//Event Calendar 2.0//EN
METHOD:PUBLISH
X-PUBLISHED-TTL:P3D
REFRESH-INTERVAL:P3D
CALSCALE:GREGORIAN
BEGIN:VEVENT
DTSTART:20091209T143000Z
DTEND:20091209T160000Z
X-MICROSOFT-CDO-ALLDAYEVENT:FALSE
SUMMARY:Stir Loveland - Educational Event with Odell's
DESCRIPTION:Are you looking to be inspired? Wynne Odell\, owner of Odell Brewery will present on how she got her start in the brewing business\, what inspires her to continue on as a motivated and outstanding professional and some tips for STIR Loveland young professionals as they move forward in their careers. Plus\, she will share some Odell marketing pieces and work through how those came about.
X-ALT-DESC;FMTTYPE=text/html:<div>Are you looking to be inspired? Wynne Odell\, owner of Odell Brewery will present on how she got her start in the brewing business\, what inspires her to continue on as a motivated and outstanding professional and some tips for STIR Loveland young professionals as they move forward in their careers.</div><div>&nbsp\;</div><div>Plus\, she will share some Odell marketing pieces and work through how those came about.</div>
LOCATION:Loveland Chamber of Commerce5400 Stone Creek Circle
UID:e.593.2027
SEQUENCE:3
DTSTAMP:20260419T173402Z
URL:https://business.loveland.org/events/details/stir-loveland-educational-event-with-odell-s-12-09-2009-2027
END:VEVENT

END:VCALENDAR
