BEGIN:VCALENDAR
VERSION:2.0
PRODID:-//ChamberMaster//Event Calendar 2.0//EN
METHOD:PUBLISH
X-PUBLISHED-TTL:P3D
REFRESH-INTERVAL:P3D
CALSCALE:GREGORIAN
BEGIN:VEVENT
DTSTART:20091014T133000Z
DTEND:20091014T150000Z
X-MICROSOFT-CDO-ALLDAYEVENT:FALSE
SUMMARY:Stir Loveland Educational w/ Chad McWhinney
DESCRIPTION:Chad McWhinney\, CEOWhen you picture one of the most successful real estate developers in northern Colorado\, you might expect someone with a little gray in their hair. Think again with Chad McWhinney. At the ripe old age of 36 he has transformed the landscape of Larimer and Weld Counties with his signature residential and commercial property developments. Come learn how he has accomplished so much at such a young age.  STIR Loveland events are open to Stir members and young professionals age 45 and younger.
X-ALT-DESC;FMTTYPE=text/html:<div><span style="font-size: smaller"><span style="font-family: Arial">&nbsp\; </span></span><div><span style="font-size: smaller"><span style="font-family: Arial"><span style="font-weight: bold\; language: EN">Chad McWhinney\, CEO</span></span></span></div><div><span style="font-size: smaller"><span style="font-family: Arial"><span style="language: EN">When you picture one of the most successful real estate developers in northern Colorado\, you might expect someone with a little gray in their hair. Think again with Chad McWhinney. At the ripe old age of 36 he has transformed the landscape of Larimer and Weld Counties with his signature residential and commercial property developments. Come learn how he has accomplished so much at such a young age. </span></span></span></div><div>&nbsp\;</div><div><span style="font-size: smaller"><span style="font-family: Arial"><span style="language: EN">STIR Loveland events are open to Stir members and young professionals age 45 and younger. </span></span></span></div><div>&nbsp\;</div></div>
LOCATION:Held at the Loveland Chamber of Commerce
UID:e.593.12
SEQUENCE:3
DTSTAMP:20260419T204627Z
URL:https://business.loveland.org/events/details/stir-loveland-educational-w-chad-mcwhinney-10-14-2009-12
END:VEVENT

END:VCALENDAR
