BEGIN:VCALENDAR
VERSION:2.0
PRODID:-//ChamberMaster//Event Calendar 2.0//EN
METHOD:PUBLISH
X-PUBLISHED-TTL:P3D
REFRESH-INTERVAL:P3D
CALSCALE:GREGORIAN
BEGIN:VEVENT
DTSTART:20100315T233000Z
DTEND:20100316T013000Z
X-MICROSOFT-CDO-ALLDAYEVENT:FALSE
SUMMARY:STIR Loveland Social Mixer
DESCRIPTION:Check out Henry's Pub! Entry fee gets you 1 free drink\, free appetizers\, and all the networking you can handle.\n\n \n\n\nSTIR Loveland Celebrates One Year through Social Mixer at Henry's Pub\n\n \n\nSuccessful Loveland young professionals group has brought new vision and energy to Northern Colorado\n\n \n\nSTIR Loveland\, Northern Colorado hottest young professionals group\, today announced its one year celebration at Henry's Pub in downtown Loveland. The March social mixer provides an excellent opportunity for current and potential members to connect. \n\n \n\n \n\nWhat: STIR Loveland Social Mixer   celebrating one year of successful young professionals in Loveland. \n\n \n\nWho: Open to current and potential STIR Loveland members\; this included young professionals age 45 and younger. \n\n \n\nWhere: Henry's Pub\, 234 East 4th Street in downtown Loveland.\n\n \n\nWhen: 5:30   7:30 p.m. MST\, Monday\, March 15\, 2010\n\n \n\nEvent Details: STIR Loveland Social Mixers are an ideal opportunity for Loveland young professionals to come together and network in order to achieve a rewarding career in Northern Colorado. \n\n \n\nRegister:  STIR Loveland members attend for free\; other young professionals attend for $20. Pre-registration is available online through www.loveland.org\, or call 667-6311. Walk-ins are welcome. \n\n \n\nAbout STIR:   STIR is a Northern Colorado connection forum for young professionals by young professionals. As part of the Loveland Chamber of Commerce\, STIR strives to create a comfortable atmosphere where young professionals connect and thrive through social events\, community involvement\, educational programs and relationship-building groups. Ultimately\, STIR hopes to equip the next generation of business and community leaders to ensure Northern Colorado's future economic and cultural vitality. STIR Loveland is sponsored by the TenFold Collective. \n\n \n\nContact: Nicole Hegg\, communications and events manager at the Loveland Chamber of Commerce\, 744-4792 or stir@loveland.org for additional information. \n\n \n\n###
X-ALT-DESC;FMTTYPE=text/html:<div>Check out Henry&rsquo\;s Pub! Entry fee gets you 1 free drink\, free appetizers\, and all the networking you can handle.</div>\n\n<div>&nbsp\;</div>\n\n<div>\n<div align="center"><b><font size="2">STIR Loveland Celebrates One Year through Social Mixer at Henry&rsquo\;s Pub</font></b></div>\n\n<div align="center">&nbsp\;</div>\n\n<div align="center"><i><font size="2">Successful Loveland young professionals group has brought new vision and energy to Northern Colorado</font></i></div>\n\n<div>&nbsp\;</div>\n\n<div><font size="2">STIR Loveland\, Northern Colorado hottest young professionals group\, today announced its one year celebration at Henry&rsquo\;s Pub in downtown Loveland. The March social mixer provides an excellent opportunity for current and potential members to connect. </font></div>\n\n<div>&nbsp\;</div>\n\n<div>&nbsp\;</div>\n\n<div><font size="2"><b>What:</b>&nbsp\;<span>STIR Loveland Social Mixer &ndash\; celebrating one year of successful young professionals in Loveland. </span></font></div>\n\n<div>&nbsp\;</div>\n\n<div><font size="2"><b>Who:&nbsp\;</b>Open to current and potential STIR Loveland members\; this included young professionals age 45 and younger. </font></div>\n\n<div>&nbsp\;</div>\n\n<div><font size="2"><b>Where:&nbsp\;</b>Henry&rsquo\;s Pub\, 234 East 4th Street in downtown Loveland.</font></div>\n\n<div>&nbsp\;</div>\n\n<div><font size="2"><b>When:&nbsp\;</b>5:30 &ndash\; 7:30 p.m. MST\, Monday\, March 15\, 2010</font></div>\n\n<div>&nbsp\;</div>\n\n<div><font size="2"><b>Event Details:<span>&nbsp\;</span></b>STIR Loveland Social Mixers are an ideal opportunity for Loveland young professionals to come together and network in order to achieve a rewarding career in Northern Colorado. </font></div>\n\n<div>&nbsp\;</div>\n\n<div><font size="2"><b>Register:&nbsp\;<span>&nbsp\;</span></b>STIR Loveland members attend for free\; other young professionals attend for $20. Pre-registration is available online through <a href="http://www.loveland.org/"><font color="#800080">www.loveland.org</font></a>\, or call 667-6311. Walk-ins are welcome. </font></div>\n\n<div>&nbsp\;</div>\n\n<div><font size="2"><b>About STIR:&nbsp\;<span>&nbsp\;&nbsp\;</span></b>STIR is a Northern Colorado connection forum for young professionals by young professionals. As part of the Loveland Chamber of Commerce\, STIR strives to create a comfortable atmosphere where young professionals connect and thrive through social events\, community involvement\, educational programs and relationship-building groups. Ultimately\, STIR hopes to equip the next generation of business and community leaders to ensure Northern Colorado&rsquo\;s future economic and cultural vitality. STIR Loveland is sponsored by the TenFold Collective. </font></div>\n\n<div>&nbsp\;</div>\n\n<div><font size="2"><b>Contact:</b>&nbsp\;<span>Nicole Hegg\, communications and events manager at the Loveland Chamber of Commerce\, 744-4792 or <a href="mailto:stir@loveland.org">stir@loveland.org</a> for additional information. </span></font></div>\n\n<div>&nbsp\;</div>\n\n<div align="center"><font size="2">###</font></div>\n</div>\n
LOCATION:Henry's Pub 234 East 4th Street
UID:e.593.2103
SEQUENCE:3
DTSTAMP:20260419T143641Z
URL:https://business.loveland.org/events/details/stir-loveland-social-mixer-03-15-2010-2103
END:VEVENT

END:VCALENDAR
