BEGIN:VCALENDAR
VERSION:2.0
PRODID:-//ChamberMaster//Event Calendar 2.0//EN
METHOD:PUBLISH
X-PUBLISHED-TTL:P3D
REFRESH-INTERVAL:P3D
CALSCALE:GREGORIAN
BEGIN:VEVENT
DTSTART:20091117T003000Z
DTEND:20091117T023000Z
X-MICROSOFT-CDO-ALLDAYEVENT:FALSE
SUMMARY:Stir Loveland Social Mixer
DESCRIPTION:Stir Loveland hosts a social mixer every other month. This is a networking opportunity for Stir members and non-members. Cost includes appetizers\, 1 free drink ticket\, and all the networking you can handle! Pay at the door or pre-register. Stir Loveland is open to young professionals age 45 and younger. Fostered by the Loveland Chamber of Commerce and sponsored by Tenfold Collective.
X-ALT-DESC;FMTTYPE=text/html:<div>Stir Loveland hosts a social mixer every other month. This is a networking opportunity for Stir members and non-members. Cost includes appetizers\, 1 free drink ticket\, and all the networking you can handle! Pay at the door or pre-register.</div><div>&nbsp\;</div><div>Stir Loveland is open to young professionals age 45 and younger. Fostered by the Loveland Chamber of Commerce and sponsored by Tenfold Collective.</div>
LOCATION:Embassy Suites LovelandClydesdale Pkwy Loveland\, CO 80538
UID:e.593.1482
SEQUENCE:3
DTSTAMP:20260419T191009Z
URL:https://business.loveland.org/events/details/stir-loveland-social-mixer-11-16-2009-1482
END:VEVENT

END:VCALENDAR
