BEGIN:VCALENDAR
VERSION:2.0
PRODID:-//ChamberMaster//Event Calendar 2.0//EN
METHOD:PUBLISH
X-PUBLISHED-TTL:P3D
REFRESH-INTERVAL:P3D
CALSCALE:GREGORIAN
BEGIN:VEVENT
DTSTART:20100126T003000Z
DTEND:20100126T023000Z
X-MICROSOFT-CDO-ALLDAYEVENT:FALSE
SUMMARY:STIR Loveland Social Mixer @Pourhouse
DESCRIPTION:Kick off 2010 with the hottest young professionals group in Northern Colorado at the hottest new spot in Loveland! Entry gets you one free drink\, free appetizers and all the networking you can handle.
X-ALT-DESC;FMTTYPE=text/html:<div>Kick off 2010 with the hottest young professionals group in Northern Colorado at the hottest new spot in Loveland! Entry gets you one free drink\, free appetizers and all the networking you can handle.</div>
LOCATION:Pourhouse Bar and Grill124 East 4th Street
UID:e.593.2076
SEQUENCE:3
DTSTAMP:20260419T173454Z
URL:https://business.loveland.org/events/details/stir-loveland-social-mixer-pourhouse-01-25-2010-2076
END:VEVENT

END:VCALENDAR
