BEGIN:VCALENDAR
VERSION:2.0
PRODID:-//ChamberMaster//Event Calendar 2.0//EN
METHOD:PUBLISH
X-PUBLISHED-TTL:P3D
REFRESH-INTERVAL:P3D
CALSCALE:GREGORIAN
BEGIN:VEVENT
DTSTART:20091017T140000Z
DTEND:20091018T180000Z
X-MICROSOFT-CDO-ALLDAYEVENT:FALSE
SUMMARY:The Alpaca Advantage
DESCRIPTION:Get the Alpaca Advantage at our "Weekend on the Ranch" Workshop held October 17&18. This is the event you will want to attend to learn about the alpaca industry from one of the most experienced alpaca ranches in the country\, presented by Stargazer Ranch\, Loveland\, CO. For registration and more information visit us online at www.alpaca.net or call at (970)635-2322.
X-ALT-DESC;FMTTYPE=text/html:<div><span class="Apple-style-span" style="widows: 2\; text-transform: none\; text-indent: 0px\; border-collapse: separate\; font: medium 'Times New Roman'\; white-space: normal\; orphans: 2\; letter-spacing: normal\; color: rgb(0\,0\,0)\; word-spacing: 0px\; -webkit-border-horizontal-spacing: 0px\; -webkit-border-vertical-spacing: 0px\; -webkit-text-decorations-in-effect: none\; -webkit-text-size-adjust: auto\; -webkit-text-stroke-width: 0px"><span class="Apple-style-span" style="font-family: Verdana\, Arial\, sans-serif\; font-size: 11px">Get the Alpaca Advantage at our &quot\;Weekend on the Ranch&quot\; Workshop held October 17&amp\;18. This is the event you will want to attend to learn about the alpaca industry from one of the most experienced alpaca ranches in the country\, presented by Stargazer Ranch\, Loveland\, CO. For registration and more information visit us online at www.alpaca.net or call at (970)635-2322.</span></span></div>
LOCATION:
UID:e.593.1613
SEQUENCE:3
DTSTAMP:20260419T215459Z
URL:https://business.loveland.org/events/details/the-alpaca-advantage-10-17-2009-1613
END:VEVENT

END:VCALENDAR
