BEGIN:VCALENDAR
VERSION:2.0
PRODID:-//ChamberMaster//Event Calendar 2.0//EN
METHOD:PUBLISH
X-PUBLISHED-TTL:P3D
REFRESH-INTERVAL:P3D
CALSCALE:GREGORIAN
BEGIN:VEVENT
DTSTART;VALUE=DATE:20260606
DTEND;VALUE=DATE:20260607
TRANSP:TRANSPARENT
X-MICROSOFT-CDO-ALLDAYEVENT:TRUE
SUMMARY:The Investment Center KidsPak Golf Tournament
DESCRIPTION:Join us on June 6\, 2026\, for The Investment Center KidsPak Golf Tournament "Feeding the Future One Fairway at a Time" as we golf to support over 700 local students receiving weekend food from KidsPak each week.\n\nWe invite you to be part of a fun-filled day of golf\, friendly competition\, and community impact on June 6\, 2026. Your participation and generosity directly help ensure that no child goes hungry and that every child has the nourishment they need to learn\, grow\, and thrive.\n\nSet against the stunning backdrop of the Rocky Mountain Front Range\, Mariana Butte Golf Course offers some of the best views in Loveland. From the challenging holes along the Big Thompson River to the breathtaking vistas from the clubhouse\, this premier 18-hole course delivers an unforgettable golf experience.\n\nRegistration includes:\n\n\n	\n	18 holes of golf\n	\n	\n	Lunch\n	\n	\n	Drink tickets\n	\n\n\nPrizes will be awarded for:\n\n\n	\n	1st\, 2nd\, and 3rd place teams\n	\n	\n	Longest Drive\n	\n	\n	Longest Putt\n	\n\n\nCome enjoy a great day on the course while making a meaningful difference in the lives of local students.\n\nRegister at: https://kidspak.org/events/kidspak-2026-golf-tournament
X-ALT-DESC;FMTTYPE=text/html:<p><strong>Join us on June 6\, 2026\, for The Investment Center KidsPak Golf Tournament &ldquo\;Feeding the Future&mdash\;One Fairway at a Time&rdquo\; as we golf to support over 700 local students receiving weekend food from KidsPak each week.</strong></p>\n\n<p>We invite you to be part of a fun-filled day of golf\, friendly competition\, and community impact on&nbsp\;<strong>June 6\, 2026</strong>. Your participation and generosity directly help ensure that no child goes hungry&mdash\;and that every child has the nourishment they need to learn\, grow\, and thrive.</p>\n\n<p>Set against the stunning backdrop of the Rocky Mountain Front Range\,&nbsp\;<strong>Mariana Butte Golf Course</strong>&nbsp\;offers some of the best views in Loveland. From the challenging holes along the Big Thompson River to the breathtaking vistas from the clubhouse\, this premier 18-hole course delivers an unforgettable golf experience.</p>\n\n<p>Registration includes:</p>\n\n<ul>\n	<li>\n	<p>18 holes of golf</p>\n	</li>\n	<li>\n	<p>Lunch</p>\n	</li>\n	<li>\n	<p>Drink tickets</p>\n	</li>\n</ul>\n\n<p>Prizes will be awarded for:</p>\n\n<ul>\n	<li>\n	<p>1st\, 2nd\, and 3rd place teams</p>\n	</li>\n	<li>\n	<p>Longest Drive</p>\n	</li>\n	<li>\n	<p>Longest Putt</p>\n	</li>\n</ul>\n\n<p>Come enjoy a great day on the course while making a meaningful difference in the lives of local students.<br />\nRegister at:&nbsp\;https://kidspak.org/events/kidspak-2026-golf-tournament</p>\n
LOCATION:Mariana Butte Golf Course 701 Clubhouse Dr. Loveland\, Colorado 80537
UID:e.593.26568
SEQUENCE:3
DTSTAMP:20260422T113608Z
URL:https://business.loveland.org/events/details/the-investment-center-kidspak-golf-tournament-26568
END:VEVENT

END:VCALENDAR
