BEGIN:VCALENDAR
VERSION:2.0
PRODID:-//ChamberMaster//Event Calendar 2.0//EN
METHOD:PUBLISH
X-PUBLISHED-TTL:P3D
REFRESH-INTERVAL:P3D
CALSCALE:GREGORIAN
BEGIN:VEVENT
DTSTART:20100320T150000Z
DTEND:20100321T010000Z
X-MICROSOFT-CDO-ALLDAYEVENT:FALSE
SUMMARY:The Larimer County 4-H Foundation Carnival and Craft show
DESCRIPTION:The Larimer County 4-H Foundation Carnival and Craft show \n\nOpen & Free to the public ? tickets for the Carnival booths are $1.00 each \n\n\n\nDoor Prizes Drawings held every 1/2 hour: \n\nGrand Prizes \n\n(From Larimer County Food Markets) \n\n1 - $150 shopping spree \n\n2 - $100 shopping sprees \n\n2 - $75 shopping sprees \n\n2 - $50 shopping sprees\n\n\n\nSpecial Events: \n\nCraft Show \n\nBake Shop \n\nLive Auctions: 1:00 and 4:00 pm\n\n\n\nThe 4-H Carnival is the only major county-wide fund raising activity that is sponsored by the Foundation.  4-H clubs from the county construct game or food booths that the public can play for prizes through tickets purchased from 4-H members ahead of time or at the event.  This event usually brings in over a thousand people.  Your support will help the 4-H youth of the County in their programs\, events\, and activities.  \n\n\n\nCraft Vendor opportunities still available:\n\n\n\n10 x 10 booths $65.00 and come with pipe and drape and electricity if needed.  For more vendor information or an application please contact Blair & Stacy Johnson at 970-669-3014 or blairandstacyjohnson@msn.com. \n\n\n\nSET-UP AND TAKE DOWN:  Vendors may start set-up on Friday\, March 19\, beginning at 12:00\, Noon to 8:00 PM.  Show hours will be Saturday\, March 20 from 9:00 AM to 7:00 PM. The cost covers a booth space which includes pipe and drape this year and electricity if needed. No slat walls or back boards will be available.  No tape of any kind will be allowed on walls\, ceilings or floors.
X-ALT-DESC;FMTTYPE=text/html:The Larimer County 4-H Foundation Carnival and Craft show \n<br>Open &amp\; Free to the public ? tickets for the Carnival booths are $1.00 each \n<br>\n<br>Door Prizes Drawings held every 1/2 hour: \n<br>Grand Prizes \n<br>(From Larimer County Food Markets) \n<br>1 - $150 shopping spree \n<br>2 - $100 shopping sprees \n<br>2 - $75 shopping sprees \n<br>2 - $50 shopping sprees\n<br>\n<br>Special Events: \n<br>Craft Show \n<br>Bake Shop \n<br>Live Auctions: 1:00 and 4:00 pm\n<br>\n<br>The 4-H Carnival is the only major county-wide fund raising activity that is sponsored by the Foundation.  4-H clubs from the county construct game or food booths that the public can play for prizes through tickets purchased from 4-H members ahead of time or at the event.  This event usually brings in over a thousand people.  Your support will help the 4-H youth of the County in their programs\, events\, and activities.  \n<br>\n<br>Craft Vendor opportunities still available:\n<br>\n<br>10 x 10 booths $65.00 and come with pipe and drape and electricity if needed.  For more vendor information or an application please contact Blair &amp\; Stacy Johnson at 970-669-3014 or blairandstacyjohnson@msn.com. \n<br>\n<br>SET-UP AND TAKE DOWN:  Vendors may start set-up on Friday\, March 19\, beginning at 12:00\, Noon to 8:00 PM.  Show hours will be Saturday\, March 20 from 9:00 AM to 7:00 PM. The cost covers a booth space which includes pipe and drape this year and electricity if needed. No slat walls or back boards will be available.  No tape of any kind will be allowed on walls\, ceilings or floors. 
LOCATION:The Ranch - Ranch-Way Feed building\, West RW Livestock Pavilion.
UID:e.593.2717
SEQUENCE:3
DTSTAMP:20260419T130030Z
URL:https://business.loveland.org/events/details/the-larimer-county-4-h-foundation-carnival-and-craft-show-03-20-2010-2717
END:VEVENT

END:VCALENDAR
