BEGIN:VCALENDAR
VERSION:2.0
PRODID:-//ChamberMaster//Event Calendar 2.0//EN
METHOD:PUBLISH
X-PUBLISHED-TTL:P3D
REFRESH-INTERVAL:P3D
CALSCALE:GREGORIAN
BEGIN:VEVENT
DTSTART:20100320T010000Z
DTEND:20100320T023000Z
X-MICROSOFT-CDO-ALLDAYEVENT:FALSE
SUMMARY:Tuesdays with Morrie
DESCRIPTION:Pathways Hospice is proud to present Mitch Albom's Tuesdays with Morrie\, a live play directed by Sandee Robinson Brown based on the book by Mitch Albom.  All proceeds benefit Pathways Hospice.
X-ALT-DESC;FMTTYPE=text/html:Pathways Hospice is proud to present Mitch Albom's Tuesdays with Morrie\, a live play directed by Sandee Robinson Brown based on the book by Mitch Albom.  All proceeds benefit Pathways Hospice.
LOCATION:Pathways Hospice\, 305 Carpenter Road\, Ft. Collins\, CO
UID:e.593.2732
SEQUENCE:3
DTSTAMP:20260419T125731Z
URL:https://business.loveland.org/events/details/tuesdays-with-morrie-03-19-2010-2732
END:VEVENT

END:VCALENDAR
