BEGIN:VCALENDAR
VERSION:2.0
PRODID:-//ChamberMaster//Event Calendar 2.0//EN
METHOD:PUBLISH
X-PUBLISHED-TTL:P3D
REFRESH-INTERVAL:P3D
CALSCALE:GREGORIAN
BEGIN:VEVENT
DTSTART:20091017T200000Z
DTEND:20091017T220000Z
X-MICROSOFT-CDO-ALLDAYEVENT:FALSE
SUMMARY:Twitter for Business and Tweet-Up with Joel Comm
DESCRIPTION:Join author Joel Comm and members of the Loveland Chamber of Commerce at the Barnes and Noble in the Loveland Centerra Promenades shopping center. We'll tweet and meet while Joel gives a talk on how to use Twitter to build your network\, enhance your brand and make more sales. The talk will be followed by a special Twitter Power book signing. Bring your friends and come out for a great time! 2pm-4pm
X-ALT-DESC;FMTTYPE=text/html:<div><span class="Apple-style-span" style="widows: 2\; text-transform: none\; text-indent: 0px\; border-collapse: separate\; font: medium 'Times New Roman'\; white-space: normal\; orphans: 2\; letter-spacing: normal\; color: rgb(0\,0\,0)\; word-spacing: 0px\; -webkit-border-horizontal-spacing: 0px\; -webkit-border-vertical-spacing: 0px\; -webkit-text-decorations-in-effect: none\; -webkit-text-size-adjust: auto\; -webkit-text-stroke-width: 0px"><span class="Apple-style-span" style="font-family: Verdana\, Arial\, sans-serif\; font-size: 11px">Join author Joel Comm and members of the Loveland Chamber of Commerce at the Barnes and Noble in the Loveland Centerra Promenades shopping center. We'll tweet and meet while Joel gives a talk on how to use Twitter to build your network\, enhance your brand and make more sales. The talk will be followed by a special Twitter Power book signing. Bring your friends and come out for a great time! 2pm-4pm</span></span></div>
LOCATION:Barnes and Noble in the Centerra Promenade Shopping Center
UID:e.593.1025
SEQUENCE:3
DTSTAMP:20260419T204802Z
URL:https://business.loveland.org/events/details/twitter-for-business-and-tweet-up-with-joel-comm-10-17-2009-1025
END:VEVENT

END:VCALENDAR
