BEGIN:VCALENDAR
VERSION:2.0
PRODID:-//ChamberMaster//Event Calendar 2.0//EN
METHOD:PUBLISH
X-PUBLISHED-TTL:P3D
REFRESH-INTERVAL:P3D
CALSCALE:GREGORIAN
BEGIN:VEVENT
DTSTART:20100206T200000Z
DTEND:20100206T220000Z
X-MICROSOFT-CDO-ALLDAYEVENT:FALSE
SUMMARY:Valentine?s Classes for Kids at the Loveland Museum/Gallery
DESCRIPTION:Handmade  Paper Valentine's Grades 3rd   6th  Learn how to recycle old paper  into beautiful new paper and make a unique Valentine's card with your paper  creation. You will love how easy it is to make! Instructor: Daria Moskowitz.
X-ALT-DESC;FMTTYPE=text/html:<p class="MsoPlainText"><b><font size="3" face="Calibri" color="red"><span style="font-weight: bold\; font-size: 12pt\; color: red\; font-family: Calibri\;">Handmade  Paper Valentine&rsquo\;s<o:p></o:p></span></font></b></p> <p class="MsoPlainText"><b><font size="3" face="Calibri"><span style="font-weight: bold\; font-size: 12pt\; font-family: Calibri\;">Grades 3rd &ndash\; 6th <o:p></o:p></span></font></b></p> <p class="MsoPlainText"><font size="3" face="Calibri"><span style="font-size: 12pt\; font-family: Calibri\;">Learn how to recycle old paper  into beautiful new paper and make a unique Valentine&rsquo\;s card with your paper  creation. You will love how easy it is to make! Instructor: Daria Moskowitz.<o:p></o:p></span></font></p>
LOCATION:
UID:e.593.2522
SEQUENCE:3
DTSTAMP:20260419T143821Z
URL:https://business.loveland.org/events/details/valentine-s-classes-for-kids-at-the-loveland-museum-gallery-02-06-2010-2522
END:VEVENT

END:VCALENDAR
