BEGIN:VCALENDAR
VERSION:2.0
PRODID:-//ChamberMaster//Event Calendar 2.0//EN
METHOD:PUBLISH
X-PUBLISHED-TTL:P3D
REFRESH-INTERVAL:P3D
CALSCALE:GREGORIAN
BEGIN:VEVENT
DTSTART:20100210T220000Z
DTEND:20100210T233000Z
X-MICROSOFT-CDO-ALLDAYEVENT:FALSE
SUMMARY:Valentine's Classes for Kids at the Loveland Museum/Gallery
DESCRIPTION:Valentine's  Cards                                Grades 2nd   5th   Cut\, glue and collage with all of  the fun and colorful materials that we will supply to make your own personal  Valentine's cards. You provide the creativity to make keepsake Valentine's for  the special people in your life. Instructor: Mary Giacomini.
X-ALT-DESC;FMTTYPE=text/html:<p class="MsoPlainText"><b><font size="3" face="Calibri" color="red"><span style="font-weight: bold\; font-size: 12pt\; color: red\; font-family: Calibri\;">Valentine&rsquo\;s  Cards&nbsp\;&nbsp\;&nbsp\;&nbsp\;&nbsp\;&nbsp\;&nbsp\;&nbsp\;&nbsp\;&nbsp\;&nbsp\;&nbsp\;&nbsp\;&nbsp\;&nbsp\;&nbsp\;&nbsp\;&nbsp\;&nbsp\;&nbsp\;&nbsp\;&nbsp\;&nbsp\;&nbsp\;&nbsp\;&nbsp\;&nbsp\;&nbsp\;&nbsp\;&nbsp\; <o:p></o:p></span></font></b></p> <p class="MsoPlainText"><b><font size="3" face="Calibri"><span style="font-weight: bold\; font-size: 12pt\; font-family: Calibri\;">Grades 2nd &ndash\; 5th  <o:p></o:p></span></font></b></p> <p class="MsoPlainText"><font size="3" face="Calibri"><span style="font-size: 12pt\; font-family: Calibri\;">Cut\, glue and collage with all of  the fun and colorful materials that we will supply to make your own personal  Valentine&rsquo\;s cards. You provide the creativity to make keepsake Valentine&rsquo\;s for  the special people in your life. Instructor: Mary Giacomini. <o:p></o:p></span></font></p>
LOCATION:
UID:e.593.2523
SEQUENCE:3
DTSTAMP:20260419T143820Z
URL:https://business.loveland.org/events/details/valentine-s-classes-for-kids-at-the-loveland-museum-gallery-02-10-2010-2523
END:VEVENT

END:VCALENDAR
