BEGIN:VCALENDAR
VERSION:2.0
PRODID:-//ChamberMaster//Event Calendar 2.0//EN
METHOD:PUBLISH
X-PUBLISHED-TTL:P3D
REFRESH-INTERVAL:P3D
CALSCALE:GREGORIAN
BEGIN:VEVENT
DTSTART;VALUE=DATE:20100213
DTEND;VALUE=DATE:20100215
TRANSP:TRANSPARENT
X-MICROSOFT-CDO-ALLDAYEVENT:TRUE
SUMMARY:Valentine's Weekend Getaway at a Ranch
DESCRIPTION:Romance at Sylvan Dale Ranch!\n\nTreat your sweetheart to a delicious candlelight dinner in the Red Ridge Room with live music\, wine and roses. Then enjoy a romantic night in a cozy cabin! Wake to a leisurely ranch breakfast in the Antique Dining Room beside the Big Thompson River. \n\nValentine?s Dinner Menu - Sat. Feb. 13th - includes three entrÃ©e selections: \n\nRib-eye Steak de Burgo (Orange Garlic Basil Demi-Glaze)\, Trout Almandine\, Colorado Outback \n\nChicken (phyllo-wrapped chicken breast stuffed with garlic-herb goat cheese and wild \n\nmushrooms).  Potatoes with steak\, rice with others.\n\nAll entrÃ©e selections include Crisp Green Salad\, Vegetable Medley\, Sylvan Dale Rolls\, and \n\nBrownie Cake with Raspberry Sauce. \n\nBottle of wine included. Other beverages available.\n\nFlamenco Guitarist ?Piatro? from 6:00 - 8:00 p.m.\n\nCall now for reservations ? limited availability.
X-ALT-DESC;FMTTYPE=text/html:Romance at Sylvan Dale Ranch!\n<br>Treat your sweetheart to a delicious candlelight dinner in the Red Ridge Room with live music\, wine and roses. Then enjoy a romantic night in a cozy cabin! Wake to a leisurely ranch breakfast in the Antique Dining Room beside the Big Thompson River. \n<br>Valentine?s Dinner Menu - Sat. Feb. 13th - includes three entrÃ©e selections: \n<br>Rib-eye Steak de Burgo (Orange Garlic Basil Demi-Glaze)\, Trout Almandine\, Colorado Outback \n<br>Chicken (phyllo-wrapped chicken breast stuffed with garlic-herb goat cheese and wild \n<br>mushrooms).  Potatoes with steak\, rice with others.\n<br>All entrÃ©e selections include Crisp Green Salad\, Vegetable Medley\, Sylvan Dale Rolls\, and \n<br>Brownie Cake with Raspberry Sauce. \n<br>Bottle of wine included. Other beverages available.\n<br>Flamenco Guitarist ?Piatro? from 6:00 - 8:00 p.m.\n<br>Call now for reservations ? limited availability.\n<br>
LOCATION:Sylvan Dale Guest Ranch\, 2939 N. County Rd 31D at Hwy 34
UID:e.593.2421
SEQUENCE:3
DTSTAMP:20260419T160408Z
URL:https://business.loveland.org/events/details/valentine-s-weekend-getaway-at-a-ranch-02-13-2010-2421
END:VEVENT

END:VCALENDAR
