BEGIN:VCALENDAR
VERSION:2.0
PRODID:-//ChamberMaster//Event Calendar 2.0//EN
METHOD:PUBLISH
X-PUBLISHED-TTL:P3D
REFRESH-INTERVAL:P3D
CALSCALE:GREGORIAN
BEGIN:VEVENT
DTSTART:20091010T140000Z
DTEND:20091010T230000Z
X-MICROSOFT-CDO-ALLDAYEVENT:FALSE
SUMMARY:Weaving Class
DESCRIPTION:"Beginning Weaving" class at Stargazer Alpaca Ranch\, Saturday October 10th from 8am - 5pm. Learn the basics of rigid-heddle weaving from nationally recognized fiber artist Karen Kinyon. All materials (including pre-wrapped looms) lunch and refreshments are included. Class size is limited and pre-registration is required.
X-ALT-DESC;FMTTYPE=text/html:<div><span class="Apple-style-span" style="widows: 2\; text-transform: none\; text-indent: 0px\; border-collapse: separate\; font: medium 'Times New Roman'\; white-space: normal\; orphans: 2\; letter-spacing: normal\; color: rgb(0\,0\,0)\; word-spacing: 0px\; -webkit-border-horizontal-spacing: 0px\; -webkit-border-vertical-spacing: 0px\; -webkit-text-decorations-in-effect: none\; -webkit-text-size-adjust: auto\; -webkit-text-stroke-width: 0px"><span class="Apple-style-span" style="font-family: Verdana\, Arial\, sans-serif\; font-size: 11px">&quot\;Beginning Weaving&quot\; class at Stargazer Alpaca Ranch\, Saturday October 10th from 8am - 5pm. Learn the basics of rigid-heddle weaving from nationally recognized fiber artist Karen Kinyon. All materials (including pre-wrapped looms) lunch and refreshments are included. Class size is limited and pre-registration is required. </span></span></div>
LOCATION:
UID:e.593.1611
SEQUENCE:3
DTSTAMP:20260419T203022Z
URL:https://business.loveland.org/events/details/weaving-class-10-10-2009-1611
END:VEVENT

END:VCALENDAR
