BEGIN:VCALENDAR
VERSION:2.0
PRODID:-//ChamberMaster//Event Calendar 2.0//EN
METHOD:PUBLISH
X-PUBLISHED-TTL:P3D
REFRESH-INTERVAL:P3D
CALSCALE:GREGORIAN
BEGIN:VEVENT
DTSTART:20091102T150000Z
DTEND:20091102T190000Z
X-MICROSOFT-CDO-ALLDAYEVENT:FALSE
SUMMARY:Worksite Wellness Blueprint Regional Forums
DESCRIPTION:Share your views on worksite wellness strategies for Colorado. \n\nLiveWell Colorado is seeking your input in the development of Colorado's\nWorksite Wellness Blueprint.\n\nJoin us for one of four regional meetings and share your views.\n\n \n\nYour feedback will contribute to Colorado's collective strategy for\nincreasing the efficiency and impact of respective worksite wellness\nsystems.\n\nYour participation and input is very valuable and important in this process\,\nwe welcome and encourage your active participation.
X-ALT-DESC;FMTTYPE=text/html:<div>Share your views on worksite wellness strategies for Colorado. <br /><br />LiveWell Colorado is seeking your input in the development of Colorado's<br />Worksite Wellness Blueprint.<br /><br />Join us for one of four regional meetings and share your views.<br /><br /> <br /><br />Your feedback will contribute to Colorado's collective strategy for<br />increasing the efficiency and impact of respective worksite wellness<br />systems.<br /><br />Your participation and input is very valuable and important in this process\,<br />we welcome and encourage your active participation.<br /><br />&nbsp\;</div>
LOCATION:Group Publishing-Fireside Cafe 1515 Cascade Avenue Loveland\, Colorado 80538
UID:e.593.1897
SEQUENCE:3
DTSTAMP:20260419T190710Z
URL:https://business.loveland.org/events/details/worksite-wellness-blueprint-regional-forums-11-02-2009-1897
END:VEVENT

END:VCALENDAR
