BEGIN:VCALENDAR
VERSION:2.0
PRODID:-//ChamberMaster//Event Calendar 2.0//EN
METHOD:PUBLISH
X-PUBLISHED-TTL:P3D
REFRESH-INTERVAL:P3D
CALSCALE:GREGORIAN
BEGIN:VEVENT
DTSTART:20100322T013000Z
DTEND:20100322T033000Z
X-MICROSOFT-CDO-ALLDAYEVENT:FALSE
SUMMARY:World-Renowned Improvisational Classical Pianist
DESCRIPTION:The Loveland Performing Arts Association will host world-renowned improvisational classical pianist John Bayless and associate Rich Ridenour. John is returning for his third appearance in Loveland and he and Rich will keep the classical connoisseurs well satisfied! Spectacular technique\, unique style\, and audience involvement will be the name of the game.
X-ALT-DESC;FMTTYPE=text/html:<div>The Loveland Performing Arts Association will host world-renowned improvisational classical pianist John Bayless and associate Rich Ridenour. John is returning for his third appearance in Loveland and he and Rich will keep the classical connoisseurs well satisfied! Spectacular technique\, unique style\, and audience involvement will be the name of the game.</div>
LOCATION:Thompson Valley High School Auditorium\, 1669 Eagle Drive\, in Loveland
UID:e.593.2737
SEQUENCE:3
DTSTAMP:20260419T125601Z
URL:https://business.loveland.org/events/details/world-renowned-improvisational-classical-pianist-03-21-2010-2737
END:VEVENT

END:VCALENDAR
