BEGIN:VCALENDAR
VERSION:2.0
PRODID:-//ChamberMaster//Event Calendar 2.0//EN
METHOD:PUBLISH
X-PUBLISHED-TTL:P3D
REFRESH-INTERVAL:P3D
CALSCALE:GREGORIAN
BEGIN:VEVENT
DTSTART:20091024T180000Z
DTEND:20091024T220000Z
X-MICROSOFT-CDO-ALLDAYEVENT:FALSE
SUMMARY:Your Home & How to Save Energy Seminar
DESCRIPTION:A series of seminars all to help inform you on how to save energy in your  home.  We will have 4 drawings of $25  each good at Colorado Discount Blinds or Home Accent  Warehouse.   12pm Judy Magara\, Owner  Colorado Discount Blinds Judy will start with opening remarks and discuss the  imperative action we all must take use less energy in order to sustain energy  resources for future generations.  1pm Hunter Douglas\, Jenny  Garcia\, Representative Windows in a home have been described as a hole in the  wall so cover it up!  Jenny will discuss  evolutionary energy saving products from Hunter Douglas and show you how you can  save $50 to $600 in rebates! 2pm Lightly Treading\,  Nancy Kellogg\, A Certified & Insured Energy  Rater Nancy Kellogg is a wealth of information on how to  improve your home for energy efficiency!   Her fascinating presentation is will give ideas that you can start right  away!
X-ALT-DESC;FMTTYPE=text/html:<p style="margin: 0in 0in 0pt\; text-align: left\;" class="MsoNormal"><font size="3"><font face="Times New Roman"><span style="">A series of seminars all to help inform you on how to save energy in your  home.<span style="">&nbsp\; </span>We will have 4 drawings of $25  each good at Colorado Discount Blinds or Home Accent  Warehouse.<o:p></o:p></span></font></font></p> <p style="margin: 0in 0in 0pt\; text-align: left\;" class="MsoNormal"><span style=""><o:p></o:p></span></p> <p style="margin: 0in 0in 0pt\; text-align: left\;" class="MsoNormal"><span style=""><o:p></o:p></span></p> <p style="margin: 0in 0in 0pt\; text-align: left\;" class="MsoNormal"><b><font size="3"><font face="Times New Roman">12pm<o:p></o:p></font></font></b></p> <p style="margin: 0in 0in 0pt\; text-align: left\;" class="MsoNormal"><b><font size="3"><font face="Times New Roman">Judy Magara\, Owner  Colorado Discount Blinds<o:p></o:p></font></font></b></p> <p style="margin: 0in 0in 0pt\; text-align: left\;" class="MsoNormal"><span style=""><font size="3"><font face="Times New Roman">Judy will start with opening remarks and discuss the  imperative action we all must take use less energy in order to sustain energy  resources for future generations.<o:p></o:p></font></font></span></p> <p style="margin: 0in 0in 0pt\; text-align: left\;" class="MsoNormal"><span style=""><o:p></o:p></span></p> <p style="margin: 0in 0in 0pt\; text-align: left\;" class="MsoNormal"><b><font size="3"><font face="Times New Roman">1pm<o:p></o:p></font></font></b></p> <p style="margin: 0in 0in 0pt\; text-align: left\;" class="MsoNormal"><b><font size="3"><font face="Times New Roman">Hunter Douglas\, Jenny  Garcia\, Representative<o:p></o:p></font></font></b></p> <p style="margin: 0in 0in 0pt\; text-align: left\;" class="MsoNormal"><span style=""><font size="3"><font face="Times New Roman">Windows in a home have been described as a hole in the  wall so cover it up!<span style="">&nbsp\; </span>Jenny will discuss  evolutionary energy saving products from Hunter Douglas and show you how you can  save $50 to $600 in rebates!<o:p></o:p></font></font></span></p> <p style="margin: 0in 0in 0pt\; text-align: left\;" class="MsoNormal"><b><font size="3"><font face="Times New Roman">2pm<o:p></o:p></font></font></b></p> <p style="margin: 0in 0in 0pt\; text-align: left\;" class="MsoNormal"><b><font size="3"><font face="Times New Roman">Lightly Treading\,  Nancy Kellogg\, A Certified &amp\; Insured Energy  Rater<o:p></o:p></font></font></b></p> <p style="margin: 0in 0in 0pt\; text-align: left\;" class="MsoNormal"><span style=""><font size="3"><font face="Times New Roman">Nancy Kellogg is a wealth of information on how to  improve your home for energy efficiency!<span style="">&nbsp\;  </span>Her fascinating presentation is will give ideas that you can start right  away!<o:p></o:p></font></font></span></p> <p style="margin: 0in 0in 0pt\; text-align: left\;" class="MsoNormal"><span style=""><o:p></o:p></span>&nbsp\;</p>
LOCATION:
UID:e.593.1887
SEQUENCE:3
DTSTAMP:20260419T204700Z
URL:https://business.loveland.org/events/details/your-home-how-to-save-energy-seminar-10-24-2009-1887
END:VEVENT

END:VCALENDAR
